BEGIN:VCALENDAR
VERSION:2.0
PRODID:-//Missy Goes Boating - ECPv6.15.20//NONSGML v1.0//EN
CALSCALE:GREGORIAN
METHOD:PUBLISH
X-ORIGINAL-URL:https://missygoesboating.com
X-WR-CALDESC:Events for Missy Goes Boating
REFRESH-INTERVAL;VALUE=DURATION:PT1H
X-Robots-Tag:noindex
X-PUBLISHED-TTL:PT1H
BEGIN:VTIMEZONE
TZID:America/Vancouver
BEGIN:DAYLIGHT
TZOFFSETFROM:-0800
TZOFFSETTO:-0700
TZNAME:PDT
DTSTART:20240310T100000
END:DAYLIGHT
BEGIN:STANDARD
TZOFFSETFROM:-0700
TZOFFSETTO:-0800
TZNAME:PST
DTSTART:20241103T090000
END:STANDARD
BEGIN:DAYLIGHT
TZOFFSETFROM:-0800
TZOFFSETTO:-0700
TZNAME:PDT
DTSTART:20250309T100000
END:DAYLIGHT
BEGIN:STANDARD
TZOFFSETFROM:-0700
TZOFFSETTO:-0800
TZNAME:PST
DTSTART:20251102T090000
END:STANDARD
BEGIN:DAYLIGHT
TZOFFSETFROM:-0800
TZOFFSETTO:-0700
TZNAME:PDT
DTSTART:20260308T100000
END:DAYLIGHT
BEGIN:STANDARD
TZOFFSETFROM:-0700
TZOFFSETTO:-0800
TZNAME:PST
DTSTART:20261101T090000
END:STANDARD
BEGIN:DAYLIGHT
TZOFFSETFROM:-0800
TZOFFSETTO:-0700
TZNAME:PDT
DTSTART:20270314T100000
END:DAYLIGHT
BEGIN:STANDARD
TZOFFSETFROM:-0700
TZOFFSETTO:-0800
TZNAME:PST
DTSTART:20271107T090000
END:STANDARD
END:VTIMEZONE
BEGIN:VEVENT
DTSTART;VALUE=DATE:20251120
DTEND;VALUE=DATE:20260104
DTSTAMP:20260424T132212
CREATED:20241105T003643Z
LAST-MODIFIED:20251119T231308Z
UID:10000130-1763596800-1767484799@missygoesboating.com
SUMMARY:FlyOver Canada - Soar With Santa
DESCRIPTION:Celebrate the holiday season with a magical ride across Canada and to the North Pole. Soar with Santa\, featuring our original Canadian adventure\, returns to Flyover in Vancouver from November 20 to January 4.  Christmas at FlyOver Canada is a special winter holiday-themed multi-dimensional flying theatre experience at Canada Place in Vancouver around December. \nUncover the majesty of Canada\, from its Arctic landscapes to ocean-front energy on both coasts and through all the spectacular scenery in between. Our signature adventure delves into the heart of Canada\, exploring the far and wide feeling of home that unites this dynamic nation. \nDates for the Soar With Santa film during this year’s Christmas season are from November 21st\, 2024\, until January 1st\, 2025. \nFor tickets and the attraction’s official website\, click FlyOver Canada. \n 
URL:https://missygoesboating.com/event/flyover-canada/
CATEGORIES:Vancouver
ATTACH;FMTTYPE=image/jpeg:https://missygoesboating.com/wp-content/uploads/2024/11/Fly-Over-Canada.jpg
END:VEVENT
BEGIN:VEVENT
DTSTART;TZID=America/Vancouver:20251127T100000
DTEND;TZID=America/Vancouver:20251130T220000
DTSTAMP:20260424T132212
CREATED:20251128T015346Z
LAST-MODIFIED:20251128T015346Z
UID:10000293-1764237600-1764540000@missygoesboating.com
SUMMARY:Hycroft for the Holidays
DESCRIPTION:Hycroft for the Holidays turns the Hycroft mansion and gardens into a festive\, family-friendly celebration that kicks off the season with lights\, seasonal shopping\, music and bite-sized performances. It’s an easy stop for a cozy evening stroll\, photo ops on the lawn\, and a chance to support the Hycroft Heritage Preservation Foundation and community programming. \nHighlights\n\nEvening visits with decorative lights and tasteful holiday displays.\nVendor market featuring local makers and seasonal goods.\nShort performances and musical interludes across the event window.\n\nTickets and access\nTickets are available for single-day visits\, priced from free up to $25 depending on options and programming. Children under 12 are free. A single ticket is valid for any day or time during the November 27 to 30 window\, so pick the slot that fits your plan. \nPlan your visit\n\nParking: limited near the mansion\, consider transit or a short walk from nearby lots.\nBest times: early evening for photos and a quieter walk\, later evening for full lights and atmosphere.\n\nVisitor tips for Hycroft for the Holidays\nArrive with a small pouch for your phone and tickets\, wear a warm layer for the garden breeze\, and bring cash if you want to grab a quick snack from a vendor. If you prefer a quieter visit\, choose a weekday evening or the earlier time slots. \nPrograms\, vendor lists and ticket options can be updated close to the event. Check the Hycroft for the Holidays event page the week of November 27 for the latest schedule and ticket links.
URL:https://missygoesboating.com/event/hycroft-for-the-holidays/
LOCATION:Hycroft Manor\, 1489 McRae Avenue\, Vancouver\, BC\, Canada
CATEGORIES:BC
ATTACH;FMTTYPE=image/jpeg:https://missygoesboating.com/wp-content/uploads/Hycroft-for-the-Holidays-e1764103387245.jpg
ORGANIZER;CN="The University Women%E2%80%99s Club of Vancouver (UWCV)":MAILTO:office@uwcvancouver.ca
END:VEVENT
BEGIN:VEVENT
DTSTART;TZID=America/Vancouver:20251127T150000
DTEND;TZID=America/Vancouver:20251127T210000
DTSTAMP:20260424T132212
CREATED:20241113T155919Z
LAST-MODIFIED:20251119T231511Z
UID:10000173-1764255600-1764277200@missygoesboating.com
SUMMARY:Ladysmith Festival of Lights
DESCRIPTION:Ladysmith Festival of Lights brightens First Avenue and the waterfront every winter with thousands of twinkling lights\, family-friendly activities\, pop-up markets\, and a big community parade that officially kicks off the season. The festival is free to enjoy and draws visitors from across Vancouver Island for shopping\, photos\, and small-town holiday cheer. \nWhat to expect\n\nFirst Avenue transformed into a lighted stroll with decorated business fronts and displays.\nLight Up Parade featuring floats\, community groups\, and a finale at Bob Stuart Park.\nCraft fair and food vendors set up around Aggie Hall and the downtown core.\nTree lighting\, fireworks\, Santa visits\, and family-focused programming across the opening evening and weekends.\n\nInfo for visitors for Ladysmith Festival of Lights\n\nAdmission is free. Expect crowds on parade night and busy weekends during December.\nRoad closures affect First Avenue from mid-afternoon on Light Up night and parking near the downtown core is limited. Plan to arrive early\, use nearby lots\, or walk from local parking.\nIf you are visiting for photos\, the best light and quieter streets are early evening on non-parade nights. Bring a warm layer\, comfortable shoes\, and a small pouch for essentials.\n\nVendor and volunteer notes\n\nFood vendor applications are accepted and in past years the vendor fee was around $350. Organizers require valid health permits and self-contained setups.\nThe festival is volunteer-powered. If you want to help\, organizers post volunteer sign-up details on their site.\n\nDetails such as parade route\, road closures\, vendor lists\, and fireworks updates change year to year. Confirm the final schedule and visitor guidance on the Ladysmith Festival of Lights website the week of the event.
URL:https://missygoesboating.com/event/ladysmith-festival-of-lights/
LOCATION:Ladysmith\, 1110 1st Ave\, Ladysmith\, BC V9G 1A1\, Ladysmith\, BC\, Canada
CATEGORIES:BC
ATTACH;FMTTYPE=image/jpeg:https://missygoesboating.com/wp-content/uploads/Ladysmith-Festival-of-Lights-e1758525304653.jpg
ORGANIZER;CN="Ladysmith Kinsmen Club":MAILTO:info@ladysmithfol.com
END:VEVENT
BEGIN:VEVENT
DTSTART;VALUE=DATE:20251127
DTEND;VALUE=DATE:20251129
DTSTAMP:20260424T132212
CREATED:20240801T191811Z
LAST-MODIFIED:20240801T191811Z
UID:10000089-1764259200-1764345599@missygoesboating.com
SUMMARY:First quarter 6:59am
DESCRIPTION:
URL:https://missygoesboating.com/event/first-quarter-659am/
END:VEVENT
END:VCALENDAR