BEGIN:VCALENDAR
VERSION:2.0
PRODID:-//Missy Goes Boating - ECPv6.15.20//NONSGML v1.0//EN
CALSCALE:GREGORIAN
METHOD:PUBLISH
X-WR-CALNAME:Missy Goes Boating
X-ORIGINAL-URL:https://missygoesboating.com
X-WR-CALDESC:Events for Missy Goes Boating
REFRESH-INTERVAL;VALUE=DURATION:PT1H
X-Robots-Tag:noindex
X-PUBLISHED-TTL:PT1H
BEGIN:VTIMEZONE
TZID:America/Vancouver
BEGIN:DAYLIGHT
TZOFFSETFROM:-0800
TZOFFSETTO:-0700
TZNAME:PDT
DTSTART:20250309T100000
END:DAYLIGHT
BEGIN:STANDARD
TZOFFSETFROM:-0700
TZOFFSETTO:-0800
TZNAME:PST
DTSTART:20251102T090000
END:STANDARD
BEGIN:DAYLIGHT
TZOFFSETFROM:-0800
TZOFFSETTO:-0700
TZNAME:PDT
DTSTART:20260308T100000
END:DAYLIGHT
BEGIN:STANDARD
TZOFFSETFROM:-0700
TZOFFSETTO:-0800
TZNAME:PST
DTSTART:20261101T090000
END:STANDARD
BEGIN:DAYLIGHT
TZOFFSETFROM:-0800
TZOFFSETTO:-0700
TZNAME:PDT
DTSTART:20270314T100000
END:DAYLIGHT
BEGIN:STANDARD
TZOFFSETFROM:-0700
TZOFFSETTO:-0800
TZNAME:PST
DTSTART:20271107T090000
END:STANDARD
END:VTIMEZONE
BEGIN:VEVENT
DTSTART;TZID=America/Vancouver:20260320T090000
DTEND;TZID=America/Vancouver:20260503T210000
DTSTAMP:20260420T144749
CREATED:20260303T191550Z
LAST-MODIFIED:20260303T191852Z
UID:10000394-1773997200-1777842000@missygoesboating.com
SUMMARY:Vancouver Cherry Blossom Food Festival 2026
DESCRIPTION:Self-guided food festival featuring cherry blossom-inspired flavours throughout Metro Vancouver\n\n\nThe Vancouver Cherry Blossom Food Festival invites you on a self-guided culinary journey through the city during one of the most beautiful times in Spring! \nFrom March 20th to May 3rd\, explore 25+ Metro Vancouver cafes and bakeries\, showcasing limited-time cherry blossom themed festival items. \nVendors: \n\nAVIK Cafe\nBeaucoup Bakery\nBoba Run\nBoketto\nBroye Cafe\nButter Baked Goods\nCoffee Loft\nDaan Go Cake Lab\nDrunken Chocolatier\nEgg Bomb Plus\nElephant Garden Creamery\nFaubourg\nFufu Pancake\nHanoi Drip\nKiller Ice Cream\nLa Saison de Patisserie\nLumine Coffee\nMatcha Cafe Maiko\nMatcha Tea Lab\nNana’s Green Tea\nStanley Bar & Grill\nThe Alley\nThe Bunny Cafe\nTrafiq Cafe & Bakery\nTutto Belle Il Gelato\nWhisk Matcha\nWren Cafe\n\nThis is your excuse to try a new spot\, catch up with a friend\, go on a date\, or go on your own food crawl\, all while supporting local businesses in this spring event. \nMore details at https://nomsmagazine.com/vancouver-cherry-blossom-food-fest/
URL:https://missygoesboating.com/event/vancouver-cherry-blossom-food-festival-2026/
LOCATION:Metro Vancouver\, 39 Kingsway\, Vancouver\, BC\, V5T 3H7\, Canada
CATEGORIES:Workshop
ATTACH;FMTTYPE=image/jpeg:https://missygoesboating.com/wp-content/uploads/456072d4c3b91842f6e2cd17b5475985.jpg
END:VEVENT
BEGIN:VEVENT
DTSTART;TZID=America/Vancouver:20260420T190000
DTEND;TZID=America/Vancouver:20260420T210000
DTSTAMP:20260420T144749
CREATED:20260305T000051Z
LAST-MODIFIED:20260305T000051Z
UID:10000402-1776711600-1776718800@missygoesboating.com
SUMMARY:Wonders of the Salish Sea: 2026 series
DESCRIPTION:Join us in this 4-part webinar series as we explore the Salish Sea\, unraveling the beauty\, life\, and deep connections to our local waters.
URL:https://missygoesboating.com/event/wonders-of-the-salish-sea-2026-series/
ATTACH;FMTTYPE=image/jpeg:https://missygoesboating.com/wp-content/uploads/1d48afd7e205b4267f6906c0fff0c962.jpg
END:VEVENT
BEGIN:VEVENT
DTSTART;TZID=America/Vancouver:20260422T183000
DTEND;TZID=America/Vancouver:20260422T213000
DTSTAMP:20260420T144749
CREATED:20260303T191548Z
LAST-MODIFIED:20260303T191548Z
UID:10000387-1776882600-1776893400@missygoesboating.com
SUMMARY:Rustic Portuguese Coastal Cooking– Chef Bruno - Cooking Class
DESCRIPTION:Join Chef Bruno Feldeisen\, award-nominated Chef and judge on the Great Canadian Baking Show in exploring Portuguese coastal comfort classics\n\n\nPlease read our Class FAQ before registering! This FAQ will answer questions about \, how to book\, cancellation policies and more. \nDEMONSTRATION EVENT. \nYour Chef: Bruno Feldeisen \nOn the menu tonight: \n \nCod Fritters with Black Olive MayoGolden\, crispy cod fritters packed with flaky cod\, herbs\, and a hint of garlic\, fried to a light crunch and served with a rich black olive mayo that adds a briny\, savory finish. A perfect balance of texture and bold coastal flavor. \nPortuguese Mussels\, Salmon & Chorizo StewFresh mussels and tender salmon simmered together with smoky chorizo in a rich tomato and white wine broth\, layered with garlic\, sweet peppers\, and warm Iberian spices. Briny\, hearty\, and gently smoky\, this rustic stew brings the flavors of Portugal’s coast and countryside together in one deeply comforting bowl. \nArroz DolceA creamy Portuguese sweet rice dessert slow-cooked with milk\, cinnamon\, and citrus peel until silky and comforting. Finished with a dusting of cinnamon\, it’s a nostalgic\, gently sweet treat that feels like home in every bite. \n \n$129 + GST per person (please purchase one ticket per attendees) \n \nEnjoy 10% off the entire store on the day of the event! \n \nWant to save the Eventbrite fee? You can register in person and over the phone directly with the store (604) 939-6200. Payment is required when you register – Visa\, MasterCard\, gift certificates are accepted over the phone\, cash and debit in person. \nCancellation policy: \nIf you cancel your registration with at least 72 hours notice\, you will be refunded the cost of the class. \nNo refund\, transfer to another class\, or credit will be issued if cancelled with less than 72 hours notice\, but you can send somebody in your place. \nPlease inquire prior to booking if there are any food allergies\, taste aversions or other concerns.
URL:https://missygoesboating.com/event/rustic-portuguese-coastal-cooking-chef-bruno-cooking-class/
LOCATION:Eden West Gourmet\, 96 Kyle Street\, Port Moody\, BC\, V3H 1Z3\, Canada
CATEGORIES:Workshop
ATTACH;FMTTYPE=image/jpeg:https://missygoesboating.com/wp-content/uploads/87204af5a086397375cdff8f86c1eb1b.jpg
END:VEVENT
BEGIN:VEVENT
DTSTART;TZID=America/Vancouver:20260425T060000
DTEND;TZID=America/Vancouver:20260425T130000
DTSTAMP:20260420T144749
CREATED:20240926T192919Z
LAST-MODIFIED:20260221T002121Z
UID:10000129-1777096800-1777122000@missygoesboating.com
SUMMARY:Fisheries Supply Swap Meet
DESCRIPTION:The Fisheries Supply Swap Meet is a maritime flea market brimming with boating goods\, from old and new parts to outboards\, buoys\, dock lines\, coolers\, heaters\, chain\, clothing\, and so much more. It’s a haven for die-hard bargain hunters\, some of whom arrive the night before to secure the best parking spots (though sellers are reminded that the lower tier of the upper parking lot\, closest to the store entrance\, is off-limits). In addition to the hundreds of boaters buying\, selling\, and trading equipment\, Fisheries Supply will offer unbeatable deals on clearance items\, discontinued stock\, overstock\, scratch-and-dent products\, and last season’s clothing. Don’t miss out!
URL:https://missygoesboating.com/event/fisheries-supply-swap-meet/
CATEGORIES:Washington State
ATTACH;FMTTYPE=image/jpeg:https://missygoesboating.com/wp-content/uploads/2024/09/Fisheries-Supply-Swap-Meet.jpg
END:VEVENT
BEGIN:VEVENT
DTSTART;TZID=America/Vancouver:20260430T080000
DTEND;TZID=America/Vancouver:20260503T170000
DTSTAMP:20260420T144749
CREATED:20260331T160941Z
LAST-MODIFIED:20260331T161125Z
UID:10000411-1777536000-1777827600@missygoesboating.com
SUMMARY:BC Boat Show at Port Sidney Marina
DESCRIPTION:The BC Boat Show takes place at the scenic\nPort Sidney Marina:\n9835 Seaport Pl\,\nSidney\, BC V8L 4X3\n\n\n\n\n\n\n\n\n\n\nAbout the Area: Port Sidney Marina rests along the picturesque shores of the Salish Sea\, in the town of Sidney\, BC\, Canada. This historic coastal town features a vibrant downtown district that is the heart of the Saanich Peninsula\, offering a blend of seaside charm and modern amenities. \nSidney is conveniently located just a short drive from Victoria International Airport (YYJ)\, BC Ferries and is easily accessible from downtown Victoria and the surrounding areas. The marina offers stunning views\, making it the perfect backdrop for the BC Boat Show and an ideal destination for visitors and exhibitors alike. \nMake a weekend of it and enjoy all that Sidney and the surrounding areas have to offer\, including beautiful beaches\, forest hikes\, top-notch restaurants\, shopping\, and many visitor attractions. \nTransportation and Parking: \n\nDowntown Parking – You’ll find free and paid on- and off-street parking throughout downtown Sidney.\n\nTo learn more about parking in Sidney\, check out the Town of Sidney’s Parking Information. \nShuttle Schedule from BC Ferries (Swartz Bay) For the convenience of attendees\, a free shuttle bus service will be operational during show hours\, connecting the BC Ferries Swartz Bay terminal to Port Sidney Marina. Look for the Days Inn shuttle with a “BC Boat Show” sign on both the front and back. The shuttle will depart shortly after each ferry arrival from the kiosk near the short-term parking lot.
URL:https://missygoesboating.com/event/bc-boat-show-at-port-sidney-marina/
CATEGORIES:Vancouver Island
ATTACH;FMTTYPE=image/png:https://missygoesboating.com/wp-content/uploads/BC-Boat-Show.png
END:VEVENT
END:VCALENDAR