BEGIN:VCALENDAR
VERSION:2.0
PRODID:-//Missy Goes Boating - ECPv6.15.20//NONSGML v1.0//EN
CALSCALE:GREGORIAN
METHOD:PUBLISH
X-ORIGINAL-URL:https://missygoesboating.com
X-WR-CALDESC:Events for Missy Goes Boating
REFRESH-INTERVAL;VALUE=DURATION:PT1H
X-Robots-Tag:noindex
X-PUBLISHED-TTL:PT1H
BEGIN:VTIMEZONE
TZID:America/Vancouver
BEGIN:DAYLIGHT
TZOFFSETFROM:-0800
TZOFFSETTO:-0700
TZNAME:PDT
DTSTART:20250309T100000
END:DAYLIGHT
BEGIN:STANDARD
TZOFFSETFROM:-0700
TZOFFSETTO:-0800
TZNAME:PST
DTSTART:20251102T090000
END:STANDARD
BEGIN:DAYLIGHT
TZOFFSETFROM:-0800
TZOFFSETTO:-0700
TZNAME:PDT
DTSTART:20260308T100000
END:DAYLIGHT
BEGIN:STANDARD
TZOFFSETFROM:-0700
TZOFFSETTO:-0800
TZNAME:PST
DTSTART:20261101T090000
END:STANDARD
BEGIN:DAYLIGHT
TZOFFSETFROM:-0800
TZOFFSETTO:-0700
TZNAME:PDT
DTSTART:20270314T100000
END:DAYLIGHT
BEGIN:STANDARD
TZOFFSETFROM:-0700
TZOFFSETTO:-0800
TZNAME:PST
DTSTART:20271107T090000
END:STANDARD
END:VTIMEZONE
BEGIN:VEVENT
DTSTART;VALUE=DATE:20260507
DTEND;VALUE=DATE:20260511
DTSTAMP:20260425T181442
CREATED:20260425T171432Z
LAST-MODIFIED:20260425T171432Z
UID:10000420-1778173200-1778432399@missygoesboating.com
SUMMARY:Mother's Day - Women's Training Rendezvous at Port Browning Marina
DESCRIPTION:Confidence Where It Counts\nPort Sidney Marina & Port Browning Marina\n \nGet your feet wet as skipper\, build your skills and enjoy a weekend of skill-building on this weekend rendezvous designed to help you build miles and confidence.\n \nItinerary \nFriday Depart Port Sidney or meet at Port Browning by 4 p.m. for a potluck dinner.\nSaturday Group Breakfast on the Docks. Morning Class. Day of Practical Docking & Line Handling. Dinner at Port Browning.\nSunday Group Breakfast & Morning Class. Docking & Line Handling Practice. Departure by 1 p.m.\n \nThe Boats*\nBring your own boat. (*Optional Coaching Session and Crew Matching available for women who want to use this trip as a first trip as skipper.\nCharter a boat with our partners at Nanaimo Yacht Charters & Sailing School or Seaport Yacht Charters.\nJoin us as an individual aboard a group boat (minimum 3-participants).\n*Limited to 4-boats to ensure sufficient time for focused training.\n \nCertifications Available\nOpportunities to gain the following certifications: Intro to Cruising\, Competent Crew or Day Skipper. Join us for a weekend of learning to help you gain more confidence and skill.\n \nCosts\n$350 Per Person\n$250 for Certification Materials (Optional)\nCosts of Charter Vessels – Quotes Available Upon Request\nFor More Information\nContact us  at info@thevoyagemakers.com\n \n \n 
URL:https://missygoesboating.com/event/mothers-day-womens-training-rendezvous-at-port-browning-marina/
LOCATION:Sidney\, B.C. & Port Browning Marina\, Pender Island\, Sidney\, B.C. & Port Browning Marina\, Pender Island\, Sidney\, B.C. & Port Browning Marina\, Pender Island\, Canada
CATEGORIES:Courses in Nanaimo,Courses in Sidney,Flotilla,Nanaimo Yacht Charters & Sailing School,Women's Events
ATTACH;FMTTYPE=image/jpeg:https://missygoesboating.com/wp-content/uploads/confidence-I51AJM.jpg
END:VEVENT
END:VCALENDAR