BEGIN:VCALENDAR
VERSION:2.0
PRODID:-//Missy Goes Boating - ECPv6.15.20//NONSGML v1.0//EN
CALSCALE:GREGORIAN
METHOD:PUBLISH
X-ORIGINAL-URL:https://missygoesboating.com
X-WR-CALDESC:Events for Missy Goes Boating
REFRESH-INTERVAL;VALUE=DURATION:PT1H
X-Robots-Tag:noindex
X-PUBLISHED-TTL:PT1H
BEGIN:VTIMEZONE
TZID:America/Vancouver
BEGIN:DAYLIGHT
TZOFFSETFROM:-0800
TZOFFSETTO:-0700
TZNAME:PDT
DTSTART:20250309T100000
END:DAYLIGHT
BEGIN:STANDARD
TZOFFSETFROM:-0700
TZOFFSETTO:-0800
TZNAME:PST
DTSTART:20251102T090000
END:STANDARD
BEGIN:DAYLIGHT
TZOFFSETFROM:-0800
TZOFFSETTO:-0700
TZNAME:PDT
DTSTART:20260308T100000
END:DAYLIGHT
BEGIN:STANDARD
TZOFFSETFROM:-0700
TZOFFSETTO:-0800
TZNAME:PST
DTSTART:20261101T090000
END:STANDARD
BEGIN:DAYLIGHT
TZOFFSETFROM:-0800
TZOFFSETTO:-0700
TZNAME:PDT
DTSTART:20270314T100000
END:DAYLIGHT
BEGIN:STANDARD
TZOFFSETFROM:-0700
TZOFFSETTO:-0800
TZNAME:PST
DTSTART:20271107T090000
END:STANDARD
END:VTIMEZONE
BEGIN:VEVENT
DTSTART;TZID=America/Vancouver:20260523T070000
DTEND;TZID=America/Vancouver:20260523T103000
DTSTAMP:20260425T204945
CREATED:20260425T171459Z
LAST-MODIFIED:20260425T174706Z
UID:10000423-1779519600-1779532200@missygoesboating.com
SUMMARY:Taste of B.C. at Port Sidney Marina with Missy
DESCRIPTION:Eat your way through coastal British Columbia…before you leave the dock. \nTastings. Conversation. Coastal inspiration.\nEverything you need for a delicious summer.\nJoin us for our 2nd Annual Taste of B.C. – for an afternoon celebrating the books and the local purveyors who make Vancouver Island so delicious.\nA conversation between two women who have built their lives around the water\, the coast\, and the table. And the first look at guides that will change how you plan\, provision\, and entertain on board this season.\nThis is a curated afternoon for boaters\, cruisers\, and coastal explorers who believe that how you eat on the water is as important as where you go.\nFeaturing: \nTracy Sarich – Founder of Voyage Makers\nSpring 2026 Port to Palate™  Culinary Guide to Coastal B.C. – The insider’s guide to the best places to dine and provision along the BC coast\, accessible by boat or summer road trip. \nAnd Missy Gervais from Missy Goes Boating  – one of B.C.’s most beloved voices on living and eating well on the water.\nCoastal Galley – Clever Tips for Provisioning\, Organizing and Cooking on Modern Boats\nAft Deck Society – Learn the secretes of the The Art of the Docktail\nTeak Table – for tips on Elegant Entertaining On Your Boat \nTastings from some of coastal BC’s finest local vendors and food producers — to be announced. \nTickets on sale soon.\nSign up for our newsletter and be the first to know — and first in line.
URL:https://missygoesboating.com/event/taste-of-b-c-at-port-sidney-marina/
LOCATION:Port Sidney Marina Sidney\, B.C.\, Port Sidney Marina Sidney\, B.C.\, Port Sidney Marina Sidney\, B.C.\, Canada
CATEGORIES:Port to Palate,Seaside Talks & Training,Talks & Other Events
ATTACH;FMTTYPE=image/png:https://missygoesboating.com/wp-content/uploads/taste-of-bc-web-cZHRaz.png
END:VEVENT
END:VCALENDAR