BEGIN:VCALENDAR
VERSION:2.0
PRODID:-//Missy Goes Boating - ECPv6.15.20//NONSGML v1.0//EN
CALSCALE:GREGORIAN
METHOD:PUBLISH
X-ORIGINAL-URL:https://missygoesboating.com
X-WR-CALDESC:Events for Missy Goes Boating
REFRESH-INTERVAL;VALUE=DURATION:PT1H
X-Robots-Tag:noindex
X-PUBLISHED-TTL:PT1H
BEGIN:VTIMEZONE
TZID:America/Vancouver
BEGIN:DAYLIGHT
TZOFFSETFROM:-0800
TZOFFSETTO:-0700
TZNAME:PDT
DTSTART:20240310T100000
END:DAYLIGHT
BEGIN:STANDARD
TZOFFSETFROM:-0700
TZOFFSETTO:-0800
TZNAME:PST
DTSTART:20241103T090000
END:STANDARD
BEGIN:DAYLIGHT
TZOFFSETFROM:-0800
TZOFFSETTO:-0700
TZNAME:PDT
DTSTART:20250309T100000
END:DAYLIGHT
BEGIN:STANDARD
TZOFFSETFROM:-0700
TZOFFSETTO:-0800
TZNAME:PST
DTSTART:20251102T090000
END:STANDARD
BEGIN:DAYLIGHT
TZOFFSETFROM:-0800
TZOFFSETTO:-0700
TZNAME:PDT
DTSTART:20260308T100000
END:DAYLIGHT
BEGIN:STANDARD
TZOFFSETFROM:-0700
TZOFFSETTO:-0800
TZNAME:PST
DTSTART:20261101T090000
END:STANDARD
BEGIN:DAYLIGHT
TZOFFSETFROM:-0800
TZOFFSETTO:-0700
TZNAME:PDT
DTSTART:20270314T100000
END:DAYLIGHT
BEGIN:STANDARD
TZOFFSETFROM:-0700
TZOFFSETTO:-0800
TZNAME:PST
DTSTART:20271107T090000
END:STANDARD
END:VTIMEZONE
BEGIN:VEVENT
DTSTART;VALUE=DATE:20251120
DTEND;VALUE=DATE:20260104
DTSTAMP:20260423T225647
CREATED:20241105T003643Z
LAST-MODIFIED:20251119T231308Z
UID:10000130-1763596800-1767484799@missygoesboating.com
SUMMARY:FlyOver Canada - Soar With Santa
DESCRIPTION:Celebrate the holiday season with a magical ride across Canada and to the North Pole. Soar with Santa\, featuring our original Canadian adventure\, returns to Flyover in Vancouver from November 20 to January 4.  Christmas at FlyOver Canada is a special winter holiday-themed multi-dimensional flying theatre experience at Canada Place in Vancouver around December. \nUncover the majesty of Canada\, from its Arctic landscapes to ocean-front energy on both coasts and through all the spectacular scenery in between. Our signature adventure delves into the heart of Canada\, exploring the far and wide feeling of home that unites this dynamic nation. \nDates for the Soar With Santa film during this year’s Christmas season are from November 21st\, 2024\, until January 1st\, 2025. \nFor tickets and the attraction’s official website\, click FlyOver Canada. \n 
URL:https://missygoesboating.com/event/flyover-canada/
CATEGORIES:Vancouver
ATTACH;FMTTYPE=image/jpeg:https://missygoesboating.com/wp-content/uploads/2024/11/Fly-Over-Canada.jpg
END:VEVENT
BEGIN:VEVENT
DTSTART;VALUE=DATE:20251231
DTEND;VALUE=DATE:20260102
DTSTAMP:20260423T225647
CREATED:20251020T174336Z
LAST-MODIFIED:20251020T174336Z
UID:10000235-1767196800-1767283199@missygoesboating.com
SUMMARY:New Year's Day
DESCRIPTION:Public holiday
URL:https://missygoesboating.com/event/new-years-day/
END:VEVENT
BEGIN:VEVENT
DTSTART;TZID=America/Vancouver:20251231T183000
DTEND;TZID=America/Vancouver:20260101T010000
DTSTAMP:20260423T225647
CREATED:20251227T050700Z
LAST-MODIFIED:20251227T050700Z
UID:10000331-1767205800-1767229200@missygoesboating.com
SUMMARY:New Year's Eve
DESCRIPTION:New Year’s Eve 2025 at the Fairmont Hotel Vancouver with Federico Fuoco! Enjoy a delicious 4 course meal\, a night of dancing & party favors!\n\n\nRing in 2025 at the iconic Fairmont Hotel Vancouver with the incomparable Federico Fuoco. Savour a four-course dinner\, then dance the night away with live music\, sparkling ambiance\, and festive party favours to welcome the New Year in style. All ages welcome. \nFollow us on instagram: @f2_productions_inc
URL:https://missygoesboating.com/event/new-years-eve-4/
LOCATION:Fairmont Hotel Vancouver\, 900 West Georgia Street\, Vancouver\, BC\, V6C 2W6\, Canada
ATTACH;FMTTYPE=image/jpeg:https://missygoesboating.com/wp-content/uploads/c2b01a66ec52f5584f298e9317a58de4.jpg
END:VEVENT
BEGIN:VEVENT
DTSTART;TZID=America/Vancouver:20251231T190000
DTEND;TZID=America/Vancouver:20260101T030000
DTSTAMP:20260423T225647
CREATED:20251227T050727Z
LAST-MODIFIED:20251227T050727Z
UID:10000330-1767207600-1767236400@missygoesboating.com
SUMMARY:New Year's Eve Countdown Gala - The Champagne Affair
DESCRIPTION:Presented by Bootleggers Beverages & Bae Side False Creek\, this premium NYE gala blends live music\, dance\, cocktails & champagne countdown!\n\n\nTIER 1 SOLD OUT! NOW TIER 2 ON SALE – 50 TICKETS AVAILABLE! \n🥂 Bootleggers Presents: The Champagne Affair – A New Year’s Eve Gala at Bae Side False Creek\nStep into an unforgettable night of elegance\, rhythm\, and revelry as Bootleggers Beverages and Bae Side False Creek bring you The Champagne Affair — a premium New Year’s Eve gala that transforms Vancouver’s waterfront into a glittering playground of music\, art\, and immersive celebration. \n✨ This is not your average NYE party — it’s a black-tie affair where the 1920s meet the modern era. Expect world-class performers\, mesmerizing live acts\, crafted cocktails\, and the city’s most glamorous crowd as we count down to 2026 in true Bootleggers style. \nTickets are limited — secure yours now and experience a night where every sip\, sparkle\, and sound tells a story. \n📍 Event Details\nDate: Wednesday\, December 31\, 2025Time: 7:00 PM – 3:00 AMLocation: Bae Side False Creek – 601 Stamps Landing\, Vancouver\, BCDress Code: Black-Tie / 1920s Formal GlamourGentlemen: tuxedos\, suits\, or vintage-inspired looks.Ladies: evening gowns\, flapper dresses\, pearls\, and shimmer. \n🎉 Event Highlights\n\nTwo levels of live entertainment overlooking False Creek\nPremium Bootleggers Cocktail Experience and tasting stations\nLive Jazz Band\, Violinist\, and Saxophonist performances\nFortune Teller Lounge for mystique and charm\nArt Gallery & Silent Auction open until 11:00 PM\nMidnight Champagne Countdown with skyline views and sparklers\n\n🎶 Music & Performance Schedule\n7:00 PM – 7:45 PM🎷 David Santana & The Band – Live jazz set (1st session – Lower Floor) \n7:45 PM – 8:00 PMBAND BREAK – Intervention Music by DJ Kam \n8:00 PM – 8:45 PM🎷 David Santana & The Band – Live jazz set (2nd session – Lower Floor)💃 Jess The Avenger – Flapper-inspired dance performance \n8:45 PM – 9:30 PM🎧 DJ Bass Legacy (Upper Floor) – Opening DJ set \n9:30 PM – 10:15 PM🎧 DJ Mauricio (Lower Floor) – Smooth grooves to elevate the vibe \n10:15 PM – 11:15 PM🎧 DJ Anita Bonita (Upper Floor) – Uplifting pre-countdown set🎷 Cute Me Rock joins with live sax performance \n11:15 PM – 12:10 AM🎧 DJ Kam B2B Acuario(LIVE) –  Countdown set with Suzka on Violin✨ Sparklers distributed at 11:40 PM🍾 Champagne poured at 11:50 PM🎆 Midnight Countdown overlooking False Creek \n12:10 AM – 1:05 AM🎧 DJ Harold (Lower Floor) – After-midnight house and disco mix👼 Jess The Avenger – Angel-style dance performance \n1:05 AM – 2:00 AM🎧 DJ Sharkbait (Upper Floor) – Late-night energy set👼 Jess The Avenger – Angel-style dance performance \n2:00 AM – 3:00 AM🎧 DJ PIMOZZ (Lower Floor) – Closing set to finish the night in style \n🎨 Art & Installations8:00 PM – 11:00 PM🖼 Pardis & Parmis – Sisters\, Artists (Art Gallery)Curated by sister duo Pardis and Parmis\, this one-night-only gallery features:•⁠ ⁠Pardis — Surreal\, narrative-driven paintings that explore the emotional and psychological dimensions of womanhood\, memory\, and inner life. Pardis\, founder of Pardis Art Studio and Family Art House\, brings these stories to life through richly layered works.•⁠ ⁠Parmis — Handcrafted mirror “Mehrab” installations that transform light and reflection into spaces for contemplation and self-discovery. \n \n🍸 Celebrate the Moment\nFrom soulful jazz and live violin to groovy beats that carry into the early hours\, The Champagne Affair is where Vancouver’s most stylish come together to celebrate the new year. \nPresented by Bootleggers Beverages and Bae Side False Creek — where every detail is crafted for a night you’ll never forget.
URL:https://missygoesboating.com/event/new-years-eve-countdown-gala-the-champagne-affair/
LOCATION:Bae Side False Creek\, 601 Stamps Landing\, Vancouver\, BC\, V5Z 3Z1\, Canada
ATTACH;FMTTYPE=image/jpeg:https://missygoesboating.com/wp-content/uploads/4e2cdc5b7149ee9e7677723b3732de51.jpg
END:VEVENT
BEGIN:VEVENT
DTSTART;TZID=America/Vancouver:20260101T120000
DTEND;TZID=America/Vancouver:20260101T140000
DTSTAMP:20260423T225647
CREATED:20251227T050738Z
LAST-MODIFIED:20251227T050738Z
UID:10000332-1767268800-1767276000@missygoesboating.com
SUMMARY:GUINNESS WORLD RECORDS™ Attempt: Largest Polar Bear Dip – Birch Bay
DESCRIPTION:Make history on Jan 1\, 2026! Join thousands in Birch Bay as we attempt the GUINNESS WORLD RECORDS™ title for Largest Polar Bear Dip!\n\n\nMake History as Birch Bay attempts the GUINNESS WORLD RECORDS™ title for Largest Polar Bear Dip!\n \nWhere: Birch Bay Beach Park\, 7930 Birch Bay Drive\, WA \nDip Location: Along Birch Bay Drive\, from Birch Bay Vogt Library Express to Bay Breeze Restaurant \nEvent Timeline: \n8:00 – 11:00 AM | Registration & Fun \n\nOn-site check-in for pre-registered participants\nT-shirts & sweatshirt pre-order pickup\nWarm up in the Warming Tent\nGames\, activities\, and music to get you pumped\n\n \n11:00 AM – 12:00 PM | Final Prep \n\nHead to the beach\nCheck in with your steward for rules and instructions\n\n \n12:00 PM SHARP | The Record Attempt \n\nEnter the water together\, waist-deep\nHold for 60 seconds under staff direction\nUp to two additional attempts if needed\nFollow staff instructions back to Birch Bay Beach Park\n\n \n12:15 – 2:00 PM | Celebration \n\nDry off and warm up with hot cocoa in the tent\nMusic and refreshments\nShort ceremony if we break the record\nCertificates for all participants\n\nThis year\, it’s not just a plunge—it’s a chance to make history! \n\n\nHosted by: \nThe Birch Bay Chamber of Commerce \n \nPresented by: \nWECU \n \nSponsored by: \nWhatcom County & Bellingham Whatcom County Tourism \nBlaine Birch Bay Park & Recreation District 2 \nbp Cherry Point \nSilver Reef Casino Resort \nPhillips 66 Ferndale Refinery \nSahara Pizza \nSemiahmoo \nBirch Bay Bike Shop \n \nPartners: \nFriends of Birch Bay Library & WCLS \nThe Beach Bar \nBeach Cat Brewing Co. \nBirch Bay Waterslides \nNorth Bay Community Church \nChrist the King Community Church \n \nSupport Sponsors: \nThe Northern Light – Blaine & Birch Bay’s Community Newspaper \nWRS \nPacific Multisports \nBerzenji Productions & Media \n \nAlso Sponsored by: \nBirch Bay Realty \nProliance Surgery Partners \nI Love Cottages \nMC Portables \nBob’s Burger & Brew \nThe Vault Wine Bar & Bistro \nOuter Island Excursions \nJoEll Snyder – REMAX \nDream Maintenance & Management \nBilly Brown – Windermere \nBirch Bay Carts and Rentals \nLisa Sprague – Windermere Realty \nBirch Bay Water & Sewer District \nBerry Appraisals \nKelly’s Upscale Puppy \nDave Hiller – Exp Realty \nBanner Bank \nBall Bayview RV Resort and Campground \nPacific Building Center
URL:https://missygoesboating.com/event/guinness-world-records-attempt-largest-polar-bear-dip-birch-bay/
LOCATION:Birch Bay Beach Park 7930 Birch Bay Dr\, 7930 Birch Bay Drive\, Blaine\, WA\, 98230\, United States
ATTACH;FMTTYPE=image/jpeg:https://missygoesboating.com/wp-content/uploads/999b8057fc18c08d04dc57eebb0efd82.jpg
END:VEVENT
BEGIN:VEVENT
DTSTART;TZID=America/Vancouver:20260103T080000
DTEND;TZID=America/Vancouver:20260103T100000
DTSTAMP:20260423T225647
CREATED:20251227T050750Z
LAST-MODIFIED:20251227T050750Z
UID:10000333-1767427200-1767434400@missygoesboating.com
SUMMARY:Free Ocean Outing at Kitsilano Beach - rain\, snow or shine !
DESCRIPTION:Join the COOLEST pod! ❄️  Join Coach Hélène of The Coolest Journey for a free ocean outing at Kitsilano Beach\, Sat Jan 3\, 8 AM\n\n\nKick off 2026 with a refreshing outing into the ocean! 🌊 \nJoin Coach Hélène and The Coolest Journey pod for a free New Year community chill at Kitsilano Beach on Saturday\, January 3 at 8 AM. \nPlease register so we can notify you only if the event must be cancelled due to sewer overflow. Otherwise\, we swim — rain\, snow\, or shine! \nWhether you’re a seasoned cold-water swimmer or simply curious about trying your first dip\, this invigorating outing will leave you feeling alive\, clear-headed\, and ready to embrace the year ahead. Bring your towel\, warm layers\, a ceramic mug for hot tea afterward\, and your sense of humour! ❄️🔥 \n \n \nAbout The Coolest Journey\nCoach Hélène launched The Coolest Journey in 2025 with the goal of significantly improving the lives of 10\,000 people by 2035—helping them break the cycle of physical pain\, reignite their inner fire\, and reclaim their lives and dreams. These free ocean outings are a way to: \n\ngive back to the wider community\n\nshare the transformative benefits of cold water for overall well-being\n\noffer a safe and supportive environment for people new to cold-water outings\n\nfoster fun\, meaningful social connections among those who love the water and want to feel fully alive\n\n\n \n \nWhat to Expect\nWhen\nThe first Saturday of each month \nWhere\nMeet at the Boathouse at Kits Beach at 8:00 AM \nWhat\nWe head into the water around 8:15–8:20 AM\, after sharing a few wise words on pre- and post-dip tips—and usually right after a brief moment of gratitude. \n \n \nDuring the Dip\nBeginners typically start with a 2–3 minute immersion\, gradually increasing their comfort and tolerance over the weeks and months. If you’re planning to dunk your head\, please protect your ears by wearing earplugs. \nIntermediate and advanced pod members enjoy the water in whatever way feels good to them: dipping\, floating\, snorkeling\, swimming\, water running\, wave jumping\, even handstanding. There’s room for every style of cold-water joy. \n \n \nAfter the Dip\nOnce everyone has enjoyed the water in their own way\, we gather for piping-hot fresh ginger tea (bring your ceramic mug—it warms both hands and heart!)\, good conversation\, and plenty of laughter. \n \n \nAfter your first ocean outing\, you’ll be added to The Coolest Journey email list so you can stay in the loop and keep the cool energy flowing. \nIf you’re looking for a low-pressure\, easy-going pod that blends the joy of cold water with fun\, community\, and shared laughter—come join us!
URL:https://missygoesboating.com/event/free-ocean-outing-at-kitsilano-beach-rain-snow-or-shine/
LOCATION:1305 Arbutus St\, 1305 Arbutus Street\, Vancouver\, BC\, V6J 5N2\, Canada
ATTACH;FMTTYPE=image/jpeg:https://missygoesboating.com/wp-content/uploads/223205e14ad5b7618746f0655027b2a6.jpg
END:VEVENT
BEGIN:VEVENT
DTSTART;VALUE=DATE:20260105
DTEND;VALUE=DATE:20260107
DTSTAMP:20260423T225647
CREATED:20251020T174336Z
LAST-MODIFIED:20251020T174336Z
UID:10000236-1767628800-1767715199@missygoesboating.com
SUMMARY:Epiphany
DESCRIPTION:Observance\nTo hide observances\, go to Google Calendar Settings > Holidays in Canada
URL:https://missygoesboating.com/event/epiphany/
END:VEVENT
BEGIN:VEVENT
DTSTART;VALUE=DATE:20260114
DTEND;VALUE=DATE:20260119
DTSTAMP:20260423T225647
CREATED:20251222T193021Z
LAST-MODIFIED:20251222T193924Z
UID:10000329-1768348800-1768780799@missygoesboating.com
SUMMARY:Vancouver Boat Show
DESCRIPTION:The Vancouver Boat Show is January 14th to 18th\, 2026\, at the Vancouver Convention Centre West. \nDownload my FREE Ultimate Boat Show Guide for all the details!!! \n \nhttps://missygoesboating.com/wp-content/uploads/IG-Vancouver-Boat-Show-2026.mp4
URL:https://missygoesboating.com/event/vancouver-boat-show/
LOCATION:Vancouver Convention Centre\, 1055 Canada Place\, Vancouver\, BC\, Canada
CATEGORIES:Vancouver
ATTACH;FMTTYPE=image/png:https://missygoesboating.com/wp-content/uploads/Landing-Page-The-Ultimate-Boat-Show-Guide.png
END:VEVENT
BEGIN:VEVENT
DTSTART;TZID=America/Vancouver:20260130T110000
DTEND;TZID=America/Vancouver:20260207T210000
DTSTAMP:20260423T225647
CREATED:20250115T060517Z
LAST-MODIFIED:20260126T185051Z
UID:10000190-1769770800-1770498000@missygoesboating.com
SUMMARY:Seattle Boat Show
DESCRIPTION:Seattle Boat Show offers a comprehensive experience for boating enthusiasts\, featuring a vast array of boats\, marine accessories\, and services. Attendees can explore the latest in boating technology\, attend educational seminars\, and connect with industry professionals. \nKey Highlights \n\nExhibitor Showcase: Discover a diverse selection of boats\, from luxury yachts to recreational vessels\, along with the latest marine accessories and services.\nEducational Seminars: Participate in over 150 free seminars covering various boating topics\, designed to enhance your knowledge and skills.\nNetworking Opportunities: Engage with industry experts\, fellow boating enthusiasts\, and potential business partners in a dynamic environment\n\nLumen Field Event Center: 800 Occidental Ave S\, Seattle\, WA\nBell Harbor Marina: 2211 Alaskan Way\, Pier 66\, Seattle\, WA \nTickets\nAdult Tickets: $20 for a single-day admission.\nNine-Day Pass: $40 for access to the entire event duration \nhttps://secure.interactiveticketing.com/1.43/ddc1b4/#/select \nWhy Attend? \n\nExplore Innovations: Experience the latest in boating technology and design\, with opportunities to see new models and products firsthand.\nEnhance Your Skills: Take advantage of free seminars to learn from experts on various boating topics\, from navigation to maintenance.\nConnect with the Community: Meet like-minded individuals\, share experiences\, and build connections within the boating community.\n\nPlan Your Visit \nFor more information on exhibitors\, seminar schedules\, and accommodations\, please visit the official Seattle Boat Show website. \nJoin Us at the Seattle Boat Show 2025! \nDon’t miss the opportunity to be part of the West Coast’s premier boating event\, offering a comprehensive experience for boating enthusiasts of all levels. \nFor a preview of what to expect\, here’s a highlight from a previous edition:
URL:https://missygoesboating.com/event/seattle-boat-show/
LOCATION:Lumen Field Event Center\, 800 Occidental Ave S\, Seattle\, WA 98134\, USA
CATEGORIES:Washington State
ATTACH;FMTTYPE=image/jpeg:https://missygoesboating.com/wp-content/uploads/2025/01/Seattle-Boat-Show-e1736912647852.jpg
ORGANIZER;CN="Seattle Boat Show":MAILTO:ticketing@seattleboatshow.com
END:VEVENT
END:VCALENDAR