BEGIN:VCALENDAR
VERSION:2.0
PRODID:-//Missy Goes Boating - ECPv6.15.20//NONSGML v1.0//EN
CALSCALE:GREGORIAN
METHOD:PUBLISH
X-WR-CALNAME:Missy Goes Boating
X-ORIGINAL-URL:https://missygoesboating.com
X-WR-CALDESC:Events for Missy Goes Boating
REFRESH-INTERVAL;VALUE=DURATION:PT1H
X-Robots-Tag:noindex
X-PUBLISHED-TTL:PT1H
BEGIN:VTIMEZONE
TZID:America/Vancouver
BEGIN:DAYLIGHT
TZOFFSETFROM:-0800
TZOFFSETTO:-0700
TZNAME:PDT
DTSTART:20250309T100000
END:DAYLIGHT
BEGIN:STANDARD
TZOFFSETFROM:-0700
TZOFFSETTO:-0800
TZNAME:PST
DTSTART:20251102T090000
END:STANDARD
BEGIN:DAYLIGHT
TZOFFSETFROM:-0800
TZOFFSETTO:-0700
TZNAME:PDT
DTSTART:20260308T100000
END:DAYLIGHT
BEGIN:STANDARD
TZOFFSETFROM:-0700
TZOFFSETTO:-0800
TZNAME:PST
DTSTART:20261101T090000
END:STANDARD
BEGIN:DAYLIGHT
TZOFFSETFROM:-0800
TZOFFSETTO:-0700
TZNAME:PDT
DTSTART:20270314T100000
END:DAYLIGHT
BEGIN:STANDARD
TZOFFSETFROM:-0700
TZOFFSETTO:-0800
TZNAME:PST
DTSTART:20271107T090000
END:STANDARD
END:VTIMEZONE
BEGIN:VEVENT
DTSTART;TZID=America/Vancouver:20260509T080000
DTEND;TZID=America/Vancouver:20260509T170000
DTSTAMP:20260425T212916
CREATED:20260425T175706Z
LAST-MODIFIED:20260425T181343Z
UID:10000431-1778313600-1778346000@missygoesboating.com
SUMMARY:Harbour Chandler Pirate Day SALE
DESCRIPTION:What is Pirate Day?\nPirate Day is Nanaimo’s annual waterfront celebration — and at The Harbour Chandler\, it means one thing: unreal deals on fishing\, boating\, and marine gear. \nEvery year\, customers line up at midnight the night before to secure the best deals. \nWhat to Expect\n✔ Storewide discounts across fishing\, marine\, and outdoor gear\n✔ Extremely limited doorcrasher deals\n✔ First come\, first served pricing\n✔ Lineups starting the night before\n✔ More surprises to be announced 👀
URL:https://missygoesboating.com/event/harbour-chandler-pirate-day-sale/
CATEGORIES:Nanaimo,Vancouver Island
ATTACH;FMTTYPE=image/png:https://missygoesboating.com/wp-content/uploads/Newsletter-Thumbnail-9.png
END:VEVENT
END:VCALENDAR