BEGIN:VCALENDAR
VERSION:2.0
PRODID:-//Missy Goes Boating - ECPv6.15.20//NONSGML v1.0//EN
CALSCALE:GREGORIAN
METHOD:PUBLISH
X-WR-CALNAME:Missy Goes Boating
X-ORIGINAL-URL:https://missygoesboating.com
X-WR-CALDESC:Events for Missy Goes Boating
REFRESH-INTERVAL;VALUE=DURATION:PT1H
X-Robots-Tag:noindex
X-PUBLISHED-TTL:PT1H
BEGIN:VTIMEZONE
TZID:America/Vancouver
BEGIN:DAYLIGHT
TZOFFSETFROM:-0800
TZOFFSETTO:-0700
TZNAME:PDT
DTSTART:20250309T100000
END:DAYLIGHT
BEGIN:STANDARD
TZOFFSETFROM:-0700
TZOFFSETTO:-0800
TZNAME:PST
DTSTART:20251102T090000
END:STANDARD
BEGIN:DAYLIGHT
TZOFFSETFROM:-0800
TZOFFSETTO:-0700
TZNAME:PDT
DTSTART:20260308T100000
END:DAYLIGHT
BEGIN:STANDARD
TZOFFSETFROM:-0700
TZOFFSETTO:-0800
TZNAME:PST
DTSTART:20261101T090000
END:STANDARD
BEGIN:DAYLIGHT
TZOFFSETFROM:-0800
TZOFFSETTO:-0700
TZNAME:PDT
DTSTART:20270314T100000
END:DAYLIGHT
BEGIN:STANDARD
TZOFFSETFROM:-0700
TZOFFSETTO:-0800
TZNAME:PST
DTSTART:20271107T090000
END:STANDARD
END:VTIMEZONE
BEGIN:VEVENT
DTSTART;VALUE=DATE:20260618
DTEND;VALUE=DATE:20260623
DTSTAMP:20260425T192350
CREATED:20260425T174032Z
LAST-MODIFIED:20260425T174032Z
UID:10000430-1781740800-1782172799@missygoesboating.com
SUMMARY:The Nectar Festival on Saltspring Island
DESCRIPTION:We are thrilled to welcome you to Nectar 2026 for five days of stellar music\, inspired art\, and meaningful connection as we celebrate the Summer Solstice in the best ways we know.​ \nNectar Festival is a curated\, immersive experience showcasing the best electronic music from across our rich region with select international artists. Our gathering unfolds among art installations\, workshops\, performances\, and creative expressions of all types. \nWe are returning to our beautiful venue on enchanted Salt Spring Island with newly expanded camping and parking\, while maintaining limited capacity to ensure the experience remains both epic and intimate. \nThis year’s theme draws inspiration from Chinese lunar mythology as we invoke the spirit of the Fire Horse—symbol of courage and our instinct for freedom. As we emerge from the Snake’s shedding of old norms and systems\, the Fire Horse charges forward into an uncertain future with fierce vitality and determination. In a time of global disruption\, we embrace and embody this energy to remember the potential of collective renewal and liberation. \nNew features of the NECTAR EXPERIENCE include:\n• The debut multimedia performance of Abstrakt Sonance & The Nectar \nOrchestra feat Kytami\, Rob Christian\, Sosita and more \n• Our new Sunset Stage at the epic viewpoint curated by Low Indigo\n\n• Expanded Tea & Elixir Lounge / Spa Sanctuary for maximum rejuvenation between dance sessions \n• More announcements coming soon! \nNectar is a Co-Creative Festival—over a quarter of attendees actively contribute to producing the experience\, and everyone brings the vibe! Together\, we are nurturing a space where our community can return home year after year. \nIf this invitation resonates\, join us June 18th–22nd on Salt Spring Island as we immerse and soak together in the Nectar of Life for five days of Music\, Art\, and Celebration! 🔥❤️🔥
URL:https://missygoesboating.com/event/the-nectar-festival-on-saltspring-island/
CATEGORIES:Salt Spring Island
ATTACH;FMTTYPE=image/png:https://missygoesboating.com/wp-content/uploads/Nectar-Festival.png
END:VEVENT
END:VCALENDAR