BEGIN:VCALENDAR
VERSION:2.0
PRODID:-//Missy Goes Boating - ECPv6.15.20//NONSGML v1.0//EN
CALSCALE:GREGORIAN
METHOD:PUBLISH
X-WR-CALNAME:Missy Goes Boating
X-ORIGINAL-URL:https://missygoesboating.com
X-WR-CALDESC:Events for Missy Goes Boating
REFRESH-INTERVAL;VALUE=DURATION:PT1H
X-Robots-Tag:noindex
X-PUBLISHED-TTL:PT1H
BEGIN:VTIMEZONE
TZID:America/Vancouver
BEGIN:DAYLIGHT
TZOFFSETFROM:-0800
TZOFFSETTO:-0700
TZNAME:PDT
DTSTART:20250309T100000
END:DAYLIGHT
BEGIN:STANDARD
TZOFFSETFROM:-0700
TZOFFSETTO:-0800
TZNAME:PST
DTSTART:20251102T090000
END:STANDARD
BEGIN:DAYLIGHT
TZOFFSETFROM:-0800
TZOFFSETTO:-0700
TZNAME:PDT
DTSTART:20260308T100000
END:DAYLIGHT
BEGIN:STANDARD
TZOFFSETFROM:-0700
TZOFFSETTO:-0800
TZNAME:PST
DTSTART:20261101T090000
END:STANDARD
BEGIN:DAYLIGHT
TZOFFSETFROM:-0800
TZOFFSETTO:-0700
TZNAME:PDT
DTSTART:20270314T100000
END:DAYLIGHT
BEGIN:STANDARD
TZOFFSETFROM:-0700
TZOFFSETTO:-0800
TZNAME:PST
DTSTART:20271107T090000
END:STANDARD
END:VTIMEZONE
BEGIN:VEVENT
DTSTART;TZID=America/Vancouver:20260507T183000
DTEND;TZID=America/Vancouver:20260507T210000
DTSTAMP:20260425T200633
CREATED:20260425T174159Z
LAST-MODIFIED:20260425T174159Z
UID:10000426-1778178600-1778187600@missygoesboating.com
SUMMARY:Taste Cider Like a Pro: Cider Sensory Workshop at Parallel 49 Brewery
DESCRIPTION:Take a hands-on sensory deep dive into the world of cider and learn to taste cider like a pro!\n\n\nJoin us at Parallel 49th Brewery on May 7th! \nTake a sensory deep dive into the world of cider and learn to taste cider like a pro with Canadian Licensed Educator Jenna Boucher! \n \nWhether you’re preparing for the Certified Pommelier™ exam or just curious how pros taste cider\, this immersive\, hands-on session will give you the tools to sip and share with confidence. You’ll learn how to detect flavors\, spot faults\, and describe cider like a seasoned cider professional. \n \nWalk away prepared for your exam\, or to wow your friends with a sharper palate and a deeper love for the world’s most diverse fermented beverage. \n \n*ACA members receive a member discount code that can be found in the membership resource hub. \n \nTicket Price includes 3 ciders\, snacks\, hands-on sensory learning tools\, and a take-home sensory evaluation packet. \n \n*All Certified Pommelier™ materials used during this event are protected intellectual property. Recording\, duplication\, or redistribution is prohibited.
URL:https://missygoesboating.com/event/taste-cider-like-a-pro-cider-sensory-workshop-at-parallel-49-brewery/
LOCATION:Parallel 49 Brewing Company\, 1950 Triumph Street\, Vancouver\, BC\, V5L 1K5\, Canada
ATTACH;FMTTYPE=image/jpeg:https://missygoesboating.com/wp-content/uploads/07dfdf7ed4e7b6ec18531ae84172fddb.jpg
END:VEVENT
END:VCALENDAR