BEGIN:VCALENDAR
VERSION:2.0
PRODID:-//Missy Goes Boating - ECPv6.15.20//NONSGML v1.0//EN
CALSCALE:GREGORIAN
METHOD:PUBLISH
X-ORIGINAL-URL:https://missygoesboating.com
X-WR-CALDESC:Events for Missy Goes Boating
REFRESH-INTERVAL;VALUE=DURATION:PT1H
X-Robots-Tag:noindex
X-PUBLISHED-TTL:PT1H
BEGIN:VTIMEZONE
TZID:America/Vancouver
BEGIN:DAYLIGHT
TZOFFSETFROM:-0800
TZOFFSETTO:-0700
TZNAME:PDT
DTSTART:20250309T100000
END:DAYLIGHT
BEGIN:STANDARD
TZOFFSETFROM:-0700
TZOFFSETTO:-0800
TZNAME:PST
DTSTART:20251102T090000
END:STANDARD
BEGIN:DAYLIGHT
TZOFFSETFROM:-0800
TZOFFSETTO:-0700
TZNAME:PDT
DTSTART:20260308T100000
END:DAYLIGHT
BEGIN:STANDARD
TZOFFSETFROM:-0700
TZOFFSETTO:-0800
TZNAME:PST
DTSTART:20261101T090000
END:STANDARD
BEGIN:DAYLIGHT
TZOFFSETFROM:-0800
TZOFFSETTO:-0700
TZNAME:PDT
DTSTART:20270314T100000
END:DAYLIGHT
BEGIN:STANDARD
TZOFFSETFROM:-0700
TZOFFSETTO:-0800
TZNAME:PST
DTSTART:20271107T090000
END:STANDARD
END:VTIMEZONE
BEGIN:VEVENT
DTSTART;TZID=America/Vancouver:20260305T183000
DTEND;TZID=America/Vancouver:20260305T193000
DTSTAMP:20260422T012750
CREATED:20260303T191550Z
LAST-MODIFIED:20260303T191550Z
UID:10000386-1772735400-1772739000@missygoesboating.com
SUMMARY:Masi Amarone: Time in a Bottle
DESCRIPTION:Costasera Amarone: Masi’s majestic benchmark of Amarone\, showcasing appassimento mastery alongside icons like Campofiorin.\n\n\nMasi Amarone: Time in a Bottle \nProud\, majestic\, complex and exuberant: Costasera Amarone is Masi’s gentle giant. A benchmark for the Amarone category\, which\, together with Barolo and Brunello\, makes up the aristocracy of the Italian wine world. Masi’s unrivalled expertise in the appassimento technique – whereby traditional grapes for the Valpolicella Classica area Corvina\, Rondinella and Molinara are laid out on bamboo racks to concentrate their aromas during the winter months\, will be showcased across multiple Amarone expressions as well as Masi’s other Icon of appassimento\, Campofiorin which launched the Ripasso category in 1964 and has been one of the most popular Italian wines in Canada ever since. \n\n\nDiscover the products featured in the tasting: \nAMARONE CLASSICO – MASI COSTASERA : 317057 \n$69.99 \n93 Points\, James Suckling: “The flagship: 70% corvina\, 25% rondinella and a smidgeon of the oft-forgotten molinara for welcome freshness. Only south-west facing hillside fruit is used for the Amarones here\, promoting a longer and slower appassimento process. Often the grapes are still on the vine come November\, with extended appassimento on traditional bamboo racks. The formidable level of dry extract is consummate across a spread of bitter cherry\, amaro bitters and dried herbs\, strewn across the long\, impressive finish. I like this. A wine for drinking rather than for the mantle. A very good opening act.” (June 2023) \n \nAMARONE CLASSICO RISERVA – MASI COSTASERA 2013: 401315 \n$89.9996 Points\, James Suckling: “Hillside\, south-west facing slopes are the source\, as always at this address. 70% corvina\, 15% rondinella\, 10% oseleta and a dash of molinara. Oseleta’s thick\, skin-heavy solid-to-liquid ratio serves as a bulwark against a warming climate\, imparting tannins and very bright acidity. A fine variety\, serving a warming region well while adding a sense of completion to the blend. It is often picked as late as October. This is excellent. Dense as much as it is remarkably sprightly and fresh. Aromas of pine\, fennel and layers of maraschino cherry\, damson\, balsamic\, polished leather and high quality bitter chocolate. Finishes pithy\, firm and nobly bitter.” (November 2022) \n \nVENETO APPASSIMENTO – MASI CAMPOFIORIN : 155051 \n$27.99 \n92 Points\, James Suckling: “I’ve always liked this wine\, sitting pretty as a double-fermented expression with a lighter framework of tannins melded to the density serviced by the double fermentation approach devised here: fresh wine re-fermented with 30% whole\, semi-dried grapes. Notes of cherry amaro\, porcini\, lilac and riffs on the larger format wood\, conferring an earthy breadth to the wine without detracting from freshness. Highly versatile and delicious. Drink now.” (January 2023) \n \nVENETO APPASSIMENTO – MASI BROLO CAMPOFIORIN : 583369 \n$32.99 \n92 Points\, James Suckling: “Dark berries\, chocolate and toasted oak with some black-tea undertones. It’s full-bodied\, yet reserved and polished with a pretty texture and soft\, round tannins\, presented in an less than obvious way. Drink now.” \n \nVALPOLICELLA CLASSICO – MASI BONACOSTA: 285585 \n$21.99 \nMade in the historical heart of the Valpolicella region\, this wine is a blend of three indigenous Italian grapes\, namely Corvina\, Rondinella and Molinara. It offers freshness on the palate\, with good supporting acidity and excellent balance marked by soft and silky tannins. Dry and refreshing\, this mild wine makes a great pairing with rich dishes. \n \nPINOT GRIGIO VERDUZZO DELLE VENEZIE – MASI MASIANCO : 244681 \n$22.99 \n90 Points\, James Suckling: “Lightly spicy\, ripe white-fruit aromas and flavors\, medium body and a tasty\, balanced palate. Enjoy now.” (June 2023) \n\n\nMeet your speaker: James Bornn\n\n\nJames Bornn is a Canadian Brand Ambassador for Masi Agricola and has 15 years of experience as an educator\, sommelier and lover of Masi wines. In fact\, the first bottle of wine he ever purchased was a bottle of 1997 Campofiorin\, which he shared with his then-future wife. James has been educated by the Wine & Spirits Education Trust and the Society of Wine Educators and has traveled extensively through Italy\, including completing Masi’s Venetian Viticulture and Oenology program in Verona \n\n\n\nThe LDB is collecting your name and email address for the purposes of completing your event registration\, in accordance with section 26(c) of the Freedom of Information and Protection of Privacy Act. If you have any questions about the collection of this personal information\, please contact Senior Manager\, Marketing & Advertising\, Retail Services\, BC Liquor Distribution Branch\, 3383 Gilmore Way\, Burnaby BC V5G 4S1 Telephone: 604 252-7400 Email: events@bcliquorstores.com
URL:https://missygoesboating.com/event/masi-amarone-time-in-a-bottle/
LOCATION:BCLIQUOR 39Th & Cambie\, 5555 Cambie Street\, Vancouver\, BC\, V5Z 3A3\, Canada
CATEGORIES:Workshop
ATTACH;FMTTYPE=image/jpeg:https://missygoesboating.com/wp-content/uploads/294a420a60198315aa5c34158eb7f18b.jpg
END:VEVENT
END:VCALENDAR