BEGIN:VCALENDAR
VERSION:2.0
PRODID:-//Missy Goes Boating - ECPv6.15.20//NONSGML v1.0//EN
CALSCALE:GREGORIAN
METHOD:PUBLISH
X-WR-CALNAME:Missy Goes Boating
X-ORIGINAL-URL:https://missygoesboating.com
X-WR-CALDESC:Events for Missy Goes Boating
REFRESH-INTERVAL;VALUE=DURATION:PT1H
X-Robots-Tag:noindex
X-PUBLISHED-TTL:PT1H
BEGIN:VTIMEZONE
TZID:America/Vancouver
BEGIN:DAYLIGHT
TZOFFSETFROM:-0800
TZOFFSETTO:-0700
TZNAME:PDT
DTSTART:20250309T100000
END:DAYLIGHT
BEGIN:STANDARD
TZOFFSETFROM:-0700
TZOFFSETTO:-0800
TZNAME:PST
DTSTART:20251102T090000
END:STANDARD
BEGIN:DAYLIGHT
TZOFFSETFROM:-0800
TZOFFSETTO:-0700
TZNAME:PDT
DTSTART:20260308T100000
END:DAYLIGHT
BEGIN:STANDARD
TZOFFSETFROM:-0700
TZOFFSETTO:-0800
TZNAME:PST
DTSTART:20261101T090000
END:STANDARD
BEGIN:DAYLIGHT
TZOFFSETFROM:-0800
TZOFFSETTO:-0700
TZNAME:PDT
DTSTART:20270314T100000
END:DAYLIGHT
BEGIN:STANDARD
TZOFFSETFROM:-0700
TZOFFSETTO:-0800
TZNAME:PST
DTSTART:20271107T090000
END:STANDARD
END:VTIMEZONE
BEGIN:VEVENT
DTSTART;TZID=America/Vancouver:20260501T170000
DTEND;TZID=America/Vancouver:20260501T183000
DTSTAMP:20260420T184107
CREATED:20260415T165318Z
LAST-MODIFIED:20260415T165318Z
UID:10000416-1777654800-1777660200@missygoesboating.com
SUMMARY:Road Trip Series: Tuscany
DESCRIPTION:Get ready to explore the flavors and vibes of Tuscany on this fun in-person road trip adventure! Charcuterie cup included!\n\n\nMontalcino\, Chianti\, Bolgheri\, and Maremma. Just a handful of the wine regions one could encounter on a leisurely drive through the heart of the Tuscan countryside. Join Alex on a tour through some of the most storied areas (and wines) of Tuscany in the inaugural episode of our Road Trip Series. Holidays in wine country have never been more affordable!
URL:https://missygoesboating.com/event/road-trip-series-tuscany/
LOCATION:Everything Wine\, 15735 Croydon Drive\, #112\, Surrey\, BC\, V3Z 2L5\, Canada
CATEGORIES:BC
ATTACH;FMTTYPE=image/jpeg:https://missygoesboating.com/wp-content/uploads/fec2f6e294609edc89c50c2f17c42f27.jpg
END:VEVENT
BEGIN:VEVENT
DTSTART;TZID=America/Vancouver:20260522T170000
DTEND;TZID=America/Vancouver:20260522T183000
DTSTAMP:20260420T184107
CREATED:20260415T165257Z
LAST-MODIFIED:20260415T165257Z
UID:10000417-1779469200-1779474600@missygoesboating.com
SUMMARY:Spectacular Whites for Summer
DESCRIPTION:Get ready to rock your summer vibes with the coolest white styles that’ll keep you fresh and fab all season long.\n\n\nJoin us for a special evening focusing exclusively on white wines with charcuterie cup. The class will showcase some BC VQA releases from the vibrant 2025 vintage along with a few international gems. Come and discover your new “summer in a glass” favourite!
URL:https://missygoesboating.com/event/spectacular-whites-for-summer/
LOCATION:Everything Wine\, 15735 Croydon Drive\, #112\, Surrey\, BC\, V3Z 2L5\, Canada
CATEGORIES:BC
ATTACH;FMTTYPE=image/jpeg:https://missygoesboating.com/wp-content/uploads/d4e765a90b5a6ced2cdebd7d1577a555.jpg
END:VEVENT
END:VCALENDAR