BEGIN:VCALENDAR
VERSION:2.0
PRODID:-//Missy Goes Boating - ECPv6.15.20//NONSGML v1.0//EN
CALSCALE:GREGORIAN
METHOD:PUBLISH
X-ORIGINAL-URL:https://missygoesboating.com
X-WR-CALDESC:Events for Missy Goes Boating
REFRESH-INTERVAL;VALUE=DURATION:PT1H
X-Robots-Tag:noindex
X-PUBLISHED-TTL:PT1H
BEGIN:VTIMEZONE
TZID:America/Vancouver
BEGIN:DAYLIGHT
TZOFFSETFROM:-0800
TZOFFSETTO:-0700
TZNAME:PDT
DTSTART:20250309T100000
END:DAYLIGHT
BEGIN:STANDARD
TZOFFSETFROM:-0700
TZOFFSETTO:-0800
TZNAME:PST
DTSTART:20251102T090000
END:STANDARD
BEGIN:DAYLIGHT
TZOFFSETFROM:-0800
TZOFFSETTO:-0700
TZNAME:PDT
DTSTART:20260308T100000
END:DAYLIGHT
BEGIN:STANDARD
TZOFFSETFROM:-0700
TZOFFSETTO:-0800
TZNAME:PST
DTSTART:20261101T090000
END:STANDARD
BEGIN:DAYLIGHT
TZOFFSETFROM:-0800
TZOFFSETTO:-0700
TZNAME:PDT
DTSTART:20270314T100000
END:DAYLIGHT
BEGIN:STANDARD
TZOFFSETFROM:-0700
TZOFFSETTO:-0800
TZNAME:PST
DTSTART:20271107T090000
END:STANDARD
END:VTIMEZONE
BEGIN:VEVENT
DTSTART;TZID=America/Vancouver:20260304T170000
DTEND;TZID=America/Vancouver:20260304T200000
DTSTAMP:20260422T012800
CREATED:20260226T013813Z
LAST-MODIFIED:20260226T013813Z
UID:10000357-1772643600-1772654400@missygoesboating.com
SUMMARY:Yaletown Cocktail Crawl
DESCRIPTION:Enjoy Giffard cocktails and snacks during this guided 3-stop cocktail crawl in Yaletown.\n\n\nDiscover the best of Yaletown’s stylish culinary landscape on this guided\, three-stop tasting experience\, highlighting the artistry of French liqueur specialists\, Giffard. This evening features stops at Bartholomew\, Minami and Brix & Mortar. At each destination\, you will receive a signature cocktail crafted around the vibrant flavours and high quality of the Giffard range. Every drink is thoughtfully paired with a delicious small food bite\, offering an intimate and delicious glimpse into Yaletown’s modern bar culture.
URL:https://missygoesboating.com/event/yaletown-cocktail-crawl/
LOCATION:Bartholomew\, 1026 Mainland St\, Vancouver\, BC\, V6B 2T4\, Canada
ATTACH;FMTTYPE=image/jpeg:https://missygoesboating.com/wp-content/uploads/38e73436e66138dc9d55e746f0e75635.jpg
END:VEVENT
END:VCALENDAR