BEGIN:VCALENDAR
VERSION:2.0
PRODID:-//Missy Goes Boating - ECPv6.15.20//NONSGML v1.0//EN
CALSCALE:GREGORIAN
METHOD:PUBLISH
X-WR-CALNAME:Missy Goes Boating
X-ORIGINAL-URL:https://missygoesboating.com
X-WR-CALDESC:Events for Missy Goes Boating
REFRESH-INTERVAL;VALUE=DURATION:PT1H
X-Robots-Tag:noindex
X-PUBLISHED-TTL:PT1H
BEGIN:VTIMEZONE
TZID:America/Vancouver
BEGIN:DAYLIGHT
TZOFFSETFROM:-0800
TZOFFSETTO:-0700
TZNAME:PDT
DTSTART:20250309T100000
END:DAYLIGHT
BEGIN:STANDARD
TZOFFSETFROM:-0700
TZOFFSETTO:-0800
TZNAME:PST
DTSTART:20251102T090000
END:STANDARD
BEGIN:DAYLIGHT
TZOFFSETFROM:-0800
TZOFFSETTO:-0700
TZNAME:PDT
DTSTART:20260308T100000
END:DAYLIGHT
BEGIN:STANDARD
TZOFFSETFROM:-0700
TZOFFSETTO:-0800
TZNAME:PST
DTSTART:20261101T090000
END:STANDARD
BEGIN:DAYLIGHT
TZOFFSETFROM:-0800
TZOFFSETTO:-0700
TZNAME:PDT
DTSTART:20270314T100000
END:DAYLIGHT
BEGIN:STANDARD
TZOFFSETFROM:-0700
TZOFFSETTO:-0800
TZNAME:PST
DTSTART:20271107T090000
END:STANDARD
END:VTIMEZONE
BEGIN:VEVENT
DTSTART;TZID=America/Vancouver:20260304T160000
DTEND;TZID=America/Vancouver:20260304T173000
DTSTAMP:20260422T154409
CREATED:20260226T013813Z
LAST-MODIFIED:20260226T013813Z
UID:10000356-1772640000-1772645400@missygoesboating.com
SUMMARY:Amaro Masterclass
DESCRIPTION:Explore the bittersweet world of Italian Amari at Carlino with this guided tasting of 6 spirits\, plus Italian snacks.\n\n\nJoin us at Carlino for an immersive exploration into the bittersweet world of Italian Amari. This masterclass dives deep into the heritage\, botanical complexity\, and modern resurgence of Italy’s most iconic herbal liqueurs. \nThe session will navigate the rich history and meticulous production methods of our featured distilleries. Once regarded primarily as a medicinal tonic\, Amaro has transitioned into a cornerstone of modern cocktail culture; this tasting highlights the versatility and depth that define the category today. \nThe Tasting Flight \nThe afternoon features a curated selection of six expressions\, showcasing a diverse range of flavor profiles—from elegant and citrusy to bold and spicy: \n• Distilleria Nonino: Amaro Quintessentia & the prestigious Amaro Riserva \n• Caffo: Amaro del Capo & the fiery Amaro del Capo Peperoncino \n• Borsci: The legendary San Marzano Elixir \n• Santa Maria al Monte: A classic\, robust alpine-style Amaro \nTo complement the tasting\, guests will enjoy a shared selection of Italian olives\, house-made focaccia\, crisp breadsticks\, and artisanal cheeses.
URL:https://missygoesboating.com/event/amaro-masterclass/
LOCATION:Carlino Restaurant\, 1115 Alberni Street\, Vancouver\, BC\, V6E 1A5\, Canada
ATTACH;FMTTYPE=image/jpeg:https://missygoesboating.com/wp-content/uploads/6d97dea85b755326d5c08fbb46e84089.jpg
END:VEVENT
END:VCALENDAR