BEGIN:VCALENDAR
VERSION:2.0
PRODID:-//Missy Goes Boating - ECPv6.15.20//NONSGML v1.0//EN
CALSCALE:GREGORIAN
METHOD:PUBLISH
X-ORIGINAL-URL:https://missygoesboating.com
X-WR-CALDESC:Events for Missy Goes Boating
REFRESH-INTERVAL;VALUE=DURATION:PT1H
X-Robots-Tag:noindex
X-PUBLISHED-TTL:PT1H
BEGIN:VTIMEZONE
TZID:America/Vancouver
BEGIN:DAYLIGHT
TZOFFSETFROM:-0800
TZOFFSETTO:-0700
TZNAME:PDT
DTSTART:20250309T100000
END:DAYLIGHT
BEGIN:STANDARD
TZOFFSETFROM:-0700
TZOFFSETTO:-0800
TZNAME:PST
DTSTART:20251102T090000
END:STANDARD
BEGIN:DAYLIGHT
TZOFFSETFROM:-0800
TZOFFSETTO:-0700
TZNAME:PDT
DTSTART:20260308T100000
END:DAYLIGHT
BEGIN:STANDARD
TZOFFSETFROM:-0700
TZOFFSETTO:-0800
TZNAME:PST
DTSTART:20261101T090000
END:STANDARD
BEGIN:DAYLIGHT
TZOFFSETFROM:-0800
TZOFFSETTO:-0700
TZNAME:PDT
DTSTART:20270314T100000
END:DAYLIGHT
BEGIN:STANDARD
TZOFFSETFROM:-0700
TZOFFSETTO:-0800
TZNAME:PST
DTSTART:20271107T090000
END:STANDARD
END:VTIMEZONE
BEGIN:VEVENT
DTSTART;TZID=America/Vancouver:20260301T150000
DTEND;TZID=America/Vancouver:20260301T170000
DTSTAMP:20260421T062237
CREATED:20260226T013854Z
LAST-MODIFIED:20260226T013858Z
UID:10000344-1772377200-1772384400@missygoesboating.com
SUMMARY:Raising the Bar: A D/6 Cocktail Masterclass
DESCRIPTION:Spend a sophisticated Sunday afternoon at D/6 mastering the essential pillars of mixology.\n\n\nYour journey begins with a welcome cocktail designed to awaken the palate before diving into an interactive afternoon of hands-on discovery. \nThis masterclass pulls back the curtain on the three fundamental methods of cocktail creation: built\, shaken and stirred. Led by general manager Miles Francoise\, you’ll learn exactly when and why to use each method\, discovering how balance\, temperature\, and dilution transform a simple pour into an exceptional serve. \n\n\n\nWhile you refine your technique with signature cocktails like the Mrs. Rose\, Fireside Smash\, and Elysian Vesper\, enjoy a selection of premium bar snacks provided by the D/6 culinary team. Whether you’re a dedicated home bartender looking to sharpen your skills or a curious enthusiast seeking a high-energy\, educational experience\, you’ll leave with the insider tips and confidence to recreate luxury cocktails at home.
URL:https://missygoesboating.com/event/raising-the-bar-a-d-6-cocktail-masterclass/
LOCATION:D/6 Bar & Lounge\, 39 Smithe Street\, Vancouver\, BC\, V6B 0R3\, Canada
CATEGORIES:BC
ATTACH;FMTTYPE=image/jpeg:https://missygoesboating.com/wp-content/uploads/a530cce5df54514b07623c2a2f50211a.jpg
END:VEVENT
END:VCALENDAR