BEGIN:VCALENDAR
VERSION:2.0
PRODID:-//Missy Goes Boating - ECPv6.15.20//NONSGML v1.0//EN
CALSCALE:GREGORIAN
METHOD:PUBLISH
X-WR-CALNAME:Missy Goes Boating
X-ORIGINAL-URL:https://missygoesboating.com
X-WR-CALDESC:Events for Missy Goes Boating
REFRESH-INTERVAL;VALUE=DURATION:PT1H
X-Robots-Tag:noindex
X-PUBLISHED-TTL:PT1H
BEGIN:VTIMEZONE
TZID:America/Vancouver
BEGIN:DAYLIGHT
TZOFFSETFROM:-0800
TZOFFSETTO:-0700
TZNAME:PDT
DTSTART:20250309T100000
END:DAYLIGHT
BEGIN:STANDARD
TZOFFSETFROM:-0700
TZOFFSETTO:-0800
TZNAME:PST
DTSTART:20251102T090000
END:STANDARD
BEGIN:DAYLIGHT
TZOFFSETFROM:-0800
TZOFFSETTO:-0700
TZNAME:PDT
DTSTART:20260308T100000
END:DAYLIGHT
BEGIN:STANDARD
TZOFFSETFROM:-0700
TZOFFSETTO:-0800
TZNAME:PST
DTSTART:20261101T090000
END:STANDARD
BEGIN:DAYLIGHT
TZOFFSETFROM:-0800
TZOFFSETTO:-0700
TZNAME:PDT
DTSTART:20270314T100000
END:DAYLIGHT
BEGIN:STANDARD
TZOFFSETFROM:-0700
TZOFFSETTO:-0800
TZNAME:PST
DTSTART:20271107T090000
END:STANDARD
END:VTIMEZONE
BEGIN:VEVENT
DTSTART;TZID=America/Vancouver:20260308T120000
DTEND;TZID=America/Vancouver:20260308T160000
DTSTAMP:20260422T122121
CREATED:20260226T013812Z
LAST-MODIFIED:20260226T013812Z
UID:10000367-1772971200-1772985600@missygoesboating.com
SUMMARY:Soft Power Sunday
DESCRIPTION:A post-gala brunch celebrating leadership\, culture\, and women in hospitality.\n\n\nSoft Power Sunday is a women-led tropical brunch at Ellipsis\, taking place the morning after the Vancouver Cocktail Week Gala. Falling on International Women’s Day\, this special gathering is hosted in a female-owned and fully female-operated space\, featuring Flor de Caña rum cocktails and tropical flavors\, setting the tone for an easy\, sun-washed Sunday. \nUpon arrival\, ease into the afternoon with a Flor de Caña welcome cocktail. Designed for recovery\, connection\, and good conversation\, this is your space to unwind at your own pace; please feel free to join us whenever you’re ready starting from 12 pm. Whether you roll in for the first pour or drop by later in the afternoon\, we’ll be here celebrating a relaxed close to a full week of programming until 4 pm.
URL:https://missygoesboating.com/event/soft-power-sunday/
LOCATION:ELLIPSIS\, 1540 West 2nd Avenue\, #205\, Vancouver\, BC\, V6J 1H2\, Canada
ATTACH;FMTTYPE=image/jpeg:https://missygoesboating.com/wp-content/uploads/e716cc523e2376b24e4327a26307a52c.jpg
END:VEVENT
END:VCALENDAR