BEGIN:VCALENDAR
VERSION:2.0
PRODID:-//Missy Goes Boating - ECPv6.15.20//NONSGML v1.0//EN
CALSCALE:GREGORIAN
METHOD:PUBLISH
X-ORIGINAL-URL:https://missygoesboating.com
X-WR-CALDESC:Events for Missy Goes Boating
REFRESH-INTERVAL;VALUE=DURATION:PT1H
X-Robots-Tag:noindex
X-PUBLISHED-TTL:PT1H
BEGIN:VTIMEZONE
TZID:America/Vancouver
BEGIN:DAYLIGHT
TZOFFSETFROM:-0800
TZOFFSETTO:-0700
TZNAME:PDT
DTSTART:20250309T100000
END:DAYLIGHT
BEGIN:STANDARD
TZOFFSETFROM:-0700
TZOFFSETTO:-0800
TZNAME:PST
DTSTART:20251102T090000
END:STANDARD
BEGIN:DAYLIGHT
TZOFFSETFROM:-0800
TZOFFSETTO:-0700
TZNAME:PDT
DTSTART:20260308T100000
END:DAYLIGHT
BEGIN:STANDARD
TZOFFSETFROM:-0700
TZOFFSETTO:-0800
TZNAME:PST
DTSTART:20261101T090000
END:STANDARD
BEGIN:DAYLIGHT
TZOFFSETFROM:-0800
TZOFFSETTO:-0700
TZNAME:PDT
DTSTART:20270314T100000
END:DAYLIGHT
BEGIN:STANDARD
TZOFFSETFROM:-0700
TZOFFSETTO:-0800
TZNAME:PST
DTSTART:20271107T090000
END:STANDARD
END:VTIMEZONE
BEGIN:VEVENT
DTSTART;TZID=America/Vancouver:20260501T180000
DTEND;TZID=America/Vancouver:20260501T193000
DTSTAMP:20260425T200732
CREATED:20260425T174119Z
LAST-MODIFIED:20260425T174119Z
UID:10000428-1777658400-1777663800@missygoesboating.com
SUMMARY:Sip Happens: Italian Whites We Can’t Pronounce
DESCRIPTION:Join us for Sip Happens: Italian Whites We Can’t Pronounce and taste awesome\, hard-to-say Italian white wines!\n\n\nSip Happens: Italian Whites We Can’t Pronounce\nTired of reaching for the same bottle of white off the shelf?  \nJoin Beverley\, as we explore a lineup of Italian white varieties you may not be familiar with but will absolutely love. From Timorasso to Arneis to Coda di Volpe\, these wines showcase the incredible diversity Italy has to offer.From crisp\, saline\, mineral-driven styles to richer\, more fruit-forward expressions\, there’s something for every palate.  \nThey may not be the easiest names to pronounce\, but they’re certainly a lot of fun to drink.In this class\, we’ll dive into how regional soils and terroir shape each wine’s character\, and explore thoughtful food pairings to bring out their best.
URL:https://missygoesboating.com/event/sip-happens-italian-whites-we-cant-pronounce/
LOCATION:Everything Wine North Vancouver\, 998 Marine Drive\, North Vancouver\, BC\, V7P 3C4\, Canada
ATTACH;FMTTYPE=image/jpeg:https://missygoesboating.com/wp-content/uploads/b7bcacb259eba593bc91f7846d464cc7.jpg
END:VEVENT
END:VCALENDAR