BEGIN:VCALENDAR
VERSION:2.0
PRODID:-//Missy Goes Boating - ECPv6.15.20//NONSGML v1.0//EN
CALSCALE:GREGORIAN
METHOD:PUBLISH
X-WR-CALNAME:Missy Goes Boating
X-ORIGINAL-URL:https://missygoesboating.com
X-WR-CALDESC:Events for Missy Goes Boating
REFRESH-INTERVAL;VALUE=DURATION:PT1H
X-Robots-Tag:noindex
X-PUBLISHED-TTL:PT1H
BEGIN:VTIMEZONE
TZID:America/Vancouver
BEGIN:DAYLIGHT
TZOFFSETFROM:-0800
TZOFFSETTO:-0700
TZNAME:PDT
DTSTART:20240310T100000
END:DAYLIGHT
BEGIN:STANDARD
TZOFFSETFROM:-0700
TZOFFSETTO:-0800
TZNAME:PST
DTSTART:20241103T090000
END:STANDARD
BEGIN:DAYLIGHT
TZOFFSETFROM:-0800
TZOFFSETTO:-0700
TZNAME:PDT
DTSTART:20250309T100000
END:DAYLIGHT
BEGIN:STANDARD
TZOFFSETFROM:-0700
TZOFFSETTO:-0800
TZNAME:PST
DTSTART:20251102T090000
END:STANDARD
BEGIN:DAYLIGHT
TZOFFSETFROM:-0800
TZOFFSETTO:-0700
TZNAME:PDT
DTSTART:20260308T100000
END:DAYLIGHT
BEGIN:STANDARD
TZOFFSETFROM:-0700
TZOFFSETTO:-0800
TZNAME:PST
DTSTART:20261101T090000
END:STANDARD
BEGIN:DAYLIGHT
TZOFFSETFROM:-0800
TZOFFSETTO:-0700
TZNAME:PDT
DTSTART:20270314T100000
END:DAYLIGHT
BEGIN:STANDARD
TZOFFSETFROM:-0700
TZOFFSETTO:-0800
TZNAME:PST
DTSTART:20271107T090000
END:STANDARD
END:VTIMEZONE
BEGIN:VEVENT
DTSTART;TZID=America/Vancouver:20260314T000000
DTEND;TZID=America/Vancouver:20260315T000000
DTSTAMP:20260424T014304
CREATED:20260219T053220Z
LAST-MODIFIED:20260219T053646Z
UID:10000337-1773446400-1773532800@missygoesboating.com
SUMMARY:Bluewater Cruising Women on Water
DESCRIPTION:The Bluewater Cruising Association “Women on Water” is March 14 to 15th\, 2026\, at the Mary Windspear Centre in Sidney\, BC. An event to create space for women\, power or sail\, whether you run a 28-foot express or a 58-foot motor yacht\, to deepen your skills\, compare notes\, and build real confidence. Not performative confidence. The kind that shows up when the wind pipes up at the fuel dock\, or a pump makes a sound you’ve never heard before. \nWhat I love most is the range of experience in the room. Some attendees are newer to boating and hungry to understand systems\, navigation\, and weather patterns. Others have logged thousands of nautical miles and simply want to sharpen their knowledge or connect with other capable women who understand the rhythm of life afloat. \nIt’s not about excluding anyone. It’s about learning in an environment where questions are welcomed\, and curiosity is respected. \nWe talk about boat systems\, electrical\, water\, and sanitation\, because understanding how your boat works changes everything. We talk about handling lines\, reading conditions\, and making decisions. And we talk about perspective. Because boating isn’t just mechanics. It’s a mindset. \nWhen women understand their boats\, they move differently onboard. They make calmer choices. They trust themselves. And that confidence ripples outward\, to their partners\, their crews\, and their communities. \nThere’s also something deeply reassuring about shared experience. Dock stories. Near misses. Lessons learned. The laughter that comes when you realize you’re not the only one who once forgot to switch the battery selector. \nWomen on Water isn’t about becoming someone else. It’s about becoming more fully yourself at the helm. \nAnd that\, in my opinion\, is where the real magic lives. \nFor all the details\, visit https://missygoesboating.com/events/missy-goes-boating-women-on-water-2026/
URL:https://missygoesboating.com/event/bluewater-cruising-women-on-water/
LOCATION:Mary Windspear Community Centre\, Sidney\, bc\, 2243 Beacon Avenue\, Sidney\, British Columbia\, V8L 1W9\, Canada
CATEGORIES:Vancouver Island
ATTACH;FMTTYPE=image/png:https://missygoesboating.com/wp-content/uploads/WOW-2026-Blog-Photo-1.png
END:VEVENT
BEGIN:VEVENT
DTSTART;TZID=America/Vancouver:20250412T083000
DTEND;TZID=America/Vancouver:20250412T170000
DTSTAMP:20260424T014304
CREATED:20250311T214425Z
LAST-MODIFIED:20250311T215416Z
UID:10000194-1744446600-1744477200@missygoesboating.com
SUMMARY:Women on Water Boating Seminar
DESCRIPTION:The Women on Water Boating Seminar presented by Bluewater Cruising is a one-day boating seminar for women. This special day intends to create a safe and respectful learning environment for women boaters\, both power and sail. Various workshops will address different experience levels\, from novice to more advanced boaters. \nSet against the stunning backdrop of Sidney by the Sea on Vancouver Island\, this empowering event is designed exclusively for women who love boating—whether you’re a seasoned cruiser or just starting your journey on the water. If you’ve ever wanted to boost your confidence\, refine your skills\, and connect with like-minded women who share your passion for boating\, this is the perfect opportunity. \nJoin us for a day filled with inspiring speakers\, hands-on learning\, and engaging discussions tailored to help you take the helm with confidence. Whether you own your boat\, crew on a friend’s\, or dream of captaining your vessel one day\, this event is about gaining knowledge\, making connections\, and celebrating the freedom of life on the water. \nThe philosophy of WOW is that women who enjoy cruising will be more confident\, independent and safer through knowledge and learning. \nYou can choose three seminars from this selection in addition to the Keynote addresses at the beginning and end of the day. Lunch and social time are also included. Click each presenter’s name below to get a sense of their bio and presentation topic. \nKeynotes – You will be able to attend both: \nElizabeth Brown Shaw \nLiza Copeland \n  \nSeminars – You can choose one session from each time slot. Space is limited for each session. Register early so you can attend the seminar you prefer.  \n1st Class 10:00 a.m. to 11:30 a.m. – choose either: \nKnots—Elaine Humphrey \nOR \nWeather Awareness & Monitoring for Comfortable Cruising—Agathe Gaulin \n  \n2nd Class 12:15 p.m. to 1:45 p.m. – choose either: \nUnderstanding Your Boat’s Systems: A Practical and Interactive Workshop—Missy Gervais  \nOR \nDocking: Communication\, Theory & Keeping Your Cool—Tracy Sarich \n  \n3rd Class 2:00 p.m. to 3:30 p.m. – choose either: \nGeneral Boat Maintenance (Slide based presentation)—Sarah White \nOR \nKnow Yourself for Boating Success—Stefa Katamay \n  \nCost (includes lunch):\nBCA Members: $125\nNon-members: $150 \nTo register: Click here. \nPlease note that those coming from outside Victoria may request a billet or ride to/from the ferry during the registration process. \nWhen you sign up\, you will also have the opportunity to select your seminars of choice. Registration closes on April 9. \nPlease log in as a BCA member to obtain the member rate for the course. The event is open to members and non-members. \n  \nSchedule of Events \n8:30–9:00: Registration\, Coffee\, Meet & Greet \n9:00–9:15: Welcome\, introductions\, meet your neighbour \n9:15–9:45: Keynote: Elizabeth Brown Shaw \n10:00–11:30: Room #1—Knots—Elaine Humphrey \n                     Room #2—Weather Awareness & Monitoring for Comfortable Cruising—Agathe Gaulin \n11:30–12:15: LUNCH \n12:15–1:45: Room #1—Understanding Your Boat’s Systems: A Practical and Interactive Workshop—Missy Gervais \n                   Room #2—Docking: Communication\, Theory & Keeping Your Cool—Tracy Sarich \n1:45–2:00: Coffee Break \n2:00–3:30: Room #1—General Boat Maintenance (Slide based presentation)—Sarah White \n                 Room #2—Know Yourself for Boating Success—Stefa Katamay \n3:40–4:10: Keynote: Liza Copeland \n4:10–4:30: Closing Remarks \n4:30: Departure (Ferry to Vancouver 5:00 PM for walk-ons) \n  \n🚤⚓The hope is that you will leave feeling more confident\, capable\, and connected in your boating journey. Whether you’ve mastered a new skill\, gained valuable insights\, or met like-minded women who share your passion for life on the water\, this event is just the beginning. Boating is about adventure\, independence\, and lifelong learning; you will have more tools and support to navigate it easily.  Here’s to strong women\, calm seas\, and endless adventures ahead! 🚤⚓💙
URL:https://missygoesboating.com/event/women-on-water-boating-seminar/
LOCATION:Mary Windspear Community Centre\, Sidney\, bc\, 2243 Beacon Avenue\, Sidney\, British Columbia\, V8L 1W9\, Canada
CATEGORIES:Vancouver Island
ATTACH;FMTTYPE=image/png:https://missygoesboating.com/wp-content/uploads/BWC-WOW-Program.png
END:VEVENT
END:VCALENDAR