BEGIN:VCALENDAR
VERSION:2.0
PRODID:-//Missy Goes Boating - ECPv6.15.20//NONSGML v1.0//EN
CALSCALE:GREGORIAN
METHOD:PUBLISH
X-ORIGINAL-URL:https://missygoesboating.com
X-WR-CALDESC:Events for Missy Goes Boating
REFRESH-INTERVAL;VALUE=DURATION:PT1H
X-Robots-Tag:noindex
X-PUBLISHED-TTL:PT1H
BEGIN:VTIMEZONE
TZID:America/Vancouver
BEGIN:DAYLIGHT
TZOFFSETFROM:-0800
TZOFFSETTO:-0700
TZNAME:PDT
DTSTART:20250309T100000
END:DAYLIGHT
BEGIN:STANDARD
TZOFFSETFROM:-0700
TZOFFSETTO:-0800
TZNAME:PST
DTSTART:20251102T090000
END:STANDARD
BEGIN:DAYLIGHT
TZOFFSETFROM:-0800
TZOFFSETTO:-0700
TZNAME:PDT
DTSTART:20260308T100000
END:DAYLIGHT
BEGIN:STANDARD
TZOFFSETFROM:-0700
TZOFFSETTO:-0800
TZNAME:PST
DTSTART:20261101T090000
END:STANDARD
BEGIN:DAYLIGHT
TZOFFSETFROM:-0800
TZOFFSETTO:-0700
TZNAME:PDT
DTSTART:20270314T100000
END:DAYLIGHT
BEGIN:STANDARD
TZOFFSETFROM:-0700
TZOFFSETTO:-0800
TZNAME:PST
DTSTART:20271107T090000
END:STANDARD
END:VTIMEZONE
BEGIN:VEVENT
DTSTART;TZID=America/Vancouver:20260305T200000
DTEND;TZID=America/Vancouver:20260305T220000
DTSTAMP:20260422T012813
CREATED:20260226T013812Z
LAST-MODIFIED:20260226T013812Z
UID:10000362-1772740800-1772748000@missygoesboating.com
SUMMARY:Koki Yokoyama Guest Shift at Meo
DESCRIPTION:Koki Yokoyama takes over MEO. Ticket includes a front-row bar seat\, a bespoke Nikka cocktail\, chef’s snack\, and merch. Don’t miss it.
URL:https://missygoesboating.com/event/koki-yokoyama-guest-shift-at-meo/
LOCATION:Meo\, 265 East Pender Street\, Vancouver\, BC\, V6A 1T8\, Canada
ATTACH;FMTTYPE=image/jpeg:https://missygoesboating.com/wp-content/uploads/1c8de70bd514a4e22a0f154175ba6cd1.jpg
END:VEVENT
BEGIN:VEVENT
DTSTART;TZID=America/Vancouver:20260305T180000
DTEND;TZID=America/Vancouver:20260305T200000
DTSTAMP:20260422T012813
CREATED:20260226T013813Z
LAST-MODIFIED:20260226T013813Z
UID:10000361-1772733600-1772740800@missygoesboating.com
SUMMARY:Koki Yokoyama Guest Shift at Meo
DESCRIPTION:Koki Yokoyama takes over MEO. Ticket includes a front-row bar seat\, a bespoke Nikka cocktail\, chef’s snack\, and merch. Don’t miss it.
URL:https://missygoesboating.com/event/koki-yokoyama-guest-shift-at-meo-2/
LOCATION:Meo\, 265 East Pender Street\, Vancouver\, BC\, V6A 1T8\, Canada
ATTACH;FMTTYPE=image/jpeg:https://missygoesboating.com/wp-content/uploads/1c8de70bd514a4e22a0f154175ba6cd1.jpg
END:VEVENT
END:VCALENDAR