BEGIN:VCALENDAR
VERSION:2.0
PRODID:-//Missy Goes Boating - ECPv6.15.20//NONSGML v1.0//EN
CALSCALE:GREGORIAN
METHOD:PUBLISH
X-ORIGINAL-URL:https://missygoesboating.com
X-WR-CALDESC:Events for Missy Goes Boating
REFRESH-INTERVAL;VALUE=DURATION:PT1H
X-Robots-Tag:noindex
X-PUBLISHED-TTL:PT1H
BEGIN:VTIMEZONE
TZID:America/Vancouver
BEGIN:DAYLIGHT
TZOFFSETFROM:-0800
TZOFFSETTO:-0700
TZNAME:PDT
DTSTART:20250309T100000
END:DAYLIGHT
BEGIN:STANDARD
TZOFFSETFROM:-0700
TZOFFSETTO:-0800
TZNAME:PST
DTSTART:20251102T090000
END:STANDARD
BEGIN:DAYLIGHT
TZOFFSETFROM:-0800
TZOFFSETTO:-0700
TZNAME:PDT
DTSTART:20260308T100000
END:DAYLIGHT
BEGIN:STANDARD
TZOFFSETFROM:-0700
TZOFFSETTO:-0800
TZNAME:PST
DTSTART:20261101T090000
END:STANDARD
BEGIN:DAYLIGHT
TZOFFSETFROM:-0800
TZOFFSETTO:-0700
TZNAME:PDT
DTSTART:20270314T100000
END:DAYLIGHT
BEGIN:STANDARD
TZOFFSETFROM:-0700
TZOFFSETTO:-0800
TZNAME:PST
DTSTART:20271107T090000
END:STANDARD
END:VTIMEZONE
BEGIN:VEVENT
DTSTART;TZID=America/Vancouver:20260327T173000
DTEND;TZID=America/Vancouver:20260327T213000
DTSTAMP:20260422T140901
CREATED:20260303T191549Z
LAST-MODIFIED:20260303T191549Z
UID:10000388-1774632600-1774647000@missygoesboating.com
SUMMARY:Catalina Wine Mixer to fundraise for Pacific Animal Therapy Society
DESCRIPTION:Raise a glass and help furry friends at the Catalina Wine Mixer for Pacific Animal Therapy Society!\n\n\nGet ready to sip\, mingle\, dance\, and have a blast at the VIU KIN Catalina Wine Mixer 2026!\nEach year\, the Kinesiology Club hosts a formal fundraiser to support local organizations. This year\, we are proud to say that we are fundraising for the Pacific Animal Therapy Society. Enjoy drinks\, mingling\, a raffle\, and supporting Pacific Animal Therapy Society
URL:https://missygoesboating.com/event/catalina-wine-mixer-to-fundraise-for-pacific-animal-therapy-society/
LOCATION:Old City Pub\, 150 Skinner St\, Nanaimo\, BC\, V9R 7A6\, Canada
CATEGORIES:Workshop
ATTACH;FMTTYPE=image/jpeg:https://missygoesboating.com/wp-content/uploads/40489ce53f3c8036535eb535582b6346.jpg
END:VEVENT
END:VCALENDAR