BEGIN:VCALENDAR
VERSION:2.0
PRODID:-//Missy Goes Boating - ECPv6.15.20//NONSGML v1.0//EN
CALSCALE:GREGORIAN
METHOD:PUBLISH
X-ORIGINAL-URL:https://missygoesboating.com
X-WR-CALDESC:Events for Missy Goes Boating
REFRESH-INTERVAL;VALUE=DURATION:PT1H
X-Robots-Tag:noindex
X-PUBLISHED-TTL:PT1H
BEGIN:VTIMEZONE
TZID:America/Vancouver
BEGIN:DAYLIGHT
TZOFFSETFROM:-0800
TZOFFSETTO:-0700
TZNAME:PDT
DTSTART:20250309T100000
END:DAYLIGHT
BEGIN:STANDARD
TZOFFSETFROM:-0700
TZOFFSETTO:-0800
TZNAME:PST
DTSTART:20251102T090000
END:STANDARD
BEGIN:DAYLIGHT
TZOFFSETFROM:-0800
TZOFFSETTO:-0700
TZNAME:PDT
DTSTART:20260308T100000
END:DAYLIGHT
BEGIN:STANDARD
TZOFFSETFROM:-0700
TZOFFSETTO:-0800
TZNAME:PST
DTSTART:20261101T090000
END:STANDARD
BEGIN:DAYLIGHT
TZOFFSETFROM:-0800
TZOFFSETTO:-0700
TZNAME:PDT
DTSTART:20270314T100000
END:DAYLIGHT
BEGIN:STANDARD
TZOFFSETFROM:-0700
TZOFFSETTO:-0800
TZNAME:PST
DTSTART:20271107T090000
END:STANDARD
END:VTIMEZONE
BEGIN:VEVENT
DTSTART;TZID=America/Vancouver:20260306T190000
DTEND;TZID=America/Vancouver:20260306T220000
DTSTAMP:20260424T174248
CREATED:20260226T013812Z
LAST-MODIFIED:20260226T013812Z
UID:10000365-1772823600-1772834400@missygoesboating.com
SUMMARY:Koki Presents: The "FIN" Pop-Up at Chickadee
DESCRIPTION:Koki Yokoyama takes over Chickadee. Ticket includes a front row bar seat\, a Nikka cocktail and a “Juke Karaage” fried chicken.\n\n\nKoki brings the vibe of “FIN”—his contemporary bar project in Mexico City—to The Chickadee Room. Fusing his Japanese heritage with the electric energy of the Condesa neighbourhood\, this pop-up blends World Class technique with a high-voltage party atmosphere. Expect bold flavours\, neon lights\, and a mash-up of cultures. Walk-ins welcome\, but VIP tickets secure a bar seat\, a feature Nikka cocktail\, and a “Juke Karaage” fried chicken.
URL:https://missygoesboating.com/event/koki-presents-the-fin-pop-up-at-chickadee/
LOCATION:The Chickadee Room in Juke\, 182 Keefer Street\, Vancouver\, BC\, V6A 1X4\, Canada
ATTACH;FMTTYPE=image/jpeg:https://missygoesboating.com/wp-content/uploads/49fb8b552758f9ab83f8e4973ce210c3.jpg
END:VEVENT
END:VCALENDAR