BEGIN:VCALENDAR
VERSION:2.0
PRODID:-//Missy Goes Boating - ECPv6.15.20//NONSGML v1.0//EN
CALSCALE:GREGORIAN
METHOD:PUBLISH
X-WR-CALNAME:Missy Goes Boating
X-ORIGINAL-URL:https://missygoesboating.com
X-WR-CALDESC:Events for Missy Goes Boating
REFRESH-INTERVAL;VALUE=DURATION:PT1H
X-Robots-Tag:noindex
X-PUBLISHED-TTL:PT1H
BEGIN:VTIMEZONE
TZID:America/Vancouver
BEGIN:DAYLIGHT
TZOFFSETFROM:-0800
TZOFFSETTO:-0700
TZNAME:PDT
DTSTART:20250309T100000
END:DAYLIGHT
BEGIN:STANDARD
TZOFFSETFROM:-0700
TZOFFSETTO:-0800
TZNAME:PST
DTSTART:20251102T090000
END:STANDARD
BEGIN:DAYLIGHT
TZOFFSETFROM:-0800
TZOFFSETTO:-0700
TZNAME:PDT
DTSTART:20260308T100000
END:DAYLIGHT
BEGIN:STANDARD
TZOFFSETFROM:-0700
TZOFFSETTO:-0800
TZNAME:PST
DTSTART:20261101T090000
END:STANDARD
BEGIN:DAYLIGHT
TZOFFSETFROM:-0800
TZOFFSETTO:-0700
TZNAME:PDT
DTSTART:20270314T100000
END:DAYLIGHT
BEGIN:STANDARD
TZOFFSETFROM:-0700
TZOFFSETTO:-0800
TZNAME:PST
DTSTART:20271107T090000
END:STANDARD
END:VTIMEZONE
BEGIN:VEVENT
DTSTART;TZID=America/Vancouver:20260306T200000
DTEND;TZID=America/Vancouver:20260306T220000
DTSTAMP:20260422T040429
CREATED:20260226T013812Z
LAST-MODIFIED:20260226T013812Z
UID:10000366-1772827200-1772834400@missygoesboating.com
SUMMARY:The Velvet Big Top!
DESCRIPTION:Step right up! A thrilling night of dazzling burlesque\, magicians\, and jugglers meet premium cocktails at the Ventura Room.\n\n\nStep into the ring at the Ventura Room for a night where the drinks are top-shelf and the performances are dazzling. We’re turning down the lights for a high-energy showcase of tassels\, tricks\, and high-proof thrills. From the glamour of burlesque dancers to the feats of jugglers and magicians\, the stage is set for a sensory takeover. Sip through a curated feature menu of premium Johnnie Walker\, Don Julio\, and Ketel One cocktails while the spectacle unfolds. One lucky guest will walk away with an exclusive prize pack. \nPERFORMER LINEUP:\nBurlesque:Scarlet DeliriumAriel HelveticaCherry OnTop \nMagician: Robert Teszka \nCircus: Yuki the Juggler \nHost: Miss Kiss \nWe can’t wait to entertain you under the big top for Vancouver Cocktail Week! \nDoors: 7pmShow: 8-10pm
URL:https://missygoesboating.com/event/the-velvet-big-top/
LOCATION:Ventura Room\, 695 Cambie Street\, Vancouver\, BC\, V6B 0K9\, Canada
ATTACH;FMTTYPE=image/jpeg:https://missygoesboating.com/wp-content/uploads/544a15bd0dbc71030ce46e0c0b31c842.jpg
END:VEVENT
BEGIN:VEVENT
DTSTART;TZID=America/Vancouver:20260303T160000
DTEND;TZID=America/Vancouver:20260303T183000
DTSTAMP:20260422T040429
CREATED:20260226T013854Z
LAST-MODIFIED:20260226T013858Z
UID:10000351-1772553600-1772562600@missygoesboating.com
SUMMARY:Johnnie Walker Seminar
DESCRIPTION:Taste the Johnnie Walker spectrum with Diageo’s Rob Renda. Enjoy a welcome cocktail\, 4 premium pours\, and chocolate pairings at Ventura Room\n\n\nJoin us at the Ventura Room for an interactive afternoon exploring the Johnnie Walker family\, hosted by Diageo Brand Ambassador Rob Renda. This is a great chance to learn about the different expressions and how they’re made\, all while tasting your way through the famous color spectrum. \nWe’ll start with a Black Label welcome cocktail followed by a guided tasting of four premium whiskies\, each paired with chocolates to highlight their unique profiles:• Gold Label: Smooth\, creamy\, and full of honey notes.• Green Label: Fresh and bright with a bit of a forest vibe.• 18 Year Old: Deep\, rich\, and seriously smooth.• Blue Label: The rare one—velvety\, complex\, and a true classic. \nThis seminar offers a hands-on way to get to know the world’s most famous Scotch\, whether you’re just starting your whisky journey or looking to compare these iconic labels side-by-side.
URL:https://missygoesboating.com/event/johnnie-walker-seminar/
LOCATION:Ventura Room\, 695 Cambie Street\, Vancouver\, BC\, V6B 0K9\, Canada
CATEGORIES:BC
ATTACH;FMTTYPE=image/jpeg:https://missygoesboating.com/wp-content/uploads/1f99df819e0d6c81ad8618ced2fbddcf.jpg
END:VEVENT
END:VCALENDAR